BEGIN:VCALENDAR
VERSION:2.0
PRODID:-//ChamberMaster//Event Calendar 2.0//EN
METHOD:PUBLISH
X-PUBLISHED-TTL:P3D
REFRESH-INTERVAL:P3D
CALSCALE:GREGORIAN
BEGIN:VEVENT
DTSTART:20210625T180000Z
DTEND:20210625T230000Z
X-MICROSOFT-CDO-ALLDAYEVENT:FALSE
SUMMARY:WI Conceal Carry
DESCRIPTION:WI Conceal Carry License Class - Instruction only - Perfect for those who own a firearm and want the certification. DATE: Friday\, June 25\,2021 LOCATION\; DEZ Tactical Arms\, Inc. 1223 South Blvd. (across from Farm & Fleet) Baraboo\, WI 53913 TIME: 1:00 - 6:00 p.m. Prerequisite: 21 years and older Fee: $70 Maximum: 12 students NOTICE: 72 HOUR CANCELLATION REQUIRED FOR REFUND OR RESCHEDULE Wisconsin Concealed Carry (32 Reciprocating States): This comprehensive course focuses on basic firearm safety and one-on-one safe gun handling skills exercises. We will discuss the attitude\, training and mindset necessary to responsibly own and carry a concealed weapon. Personal defense topics including the legal use of deadly force\, modern concealed carry techniques\, car jacking's\, home invasions as well as safety in your home and proper storage will be discussed. Course includes Certificate of Training for submission with permit application. There is a $40 application fee at time of application submittal. Instructor has NRA Firearms Instructor Certification. Focus areas within this course include:   Wisconsin statutory regulations   Concealed Carry Concepts   Legal possession and transport   Universal Firearm Safety   Safe Firearm Storage   Safe unloading procedures   Handgun platform comparisons   Types of Ammunition   Concealment methods (holsters\, off-body carry options.) 4+ Hour Class Time REMEMBER: Sign up for any Wisconsin Concealed Carry Class and get these value-added benefits: ? 1/2 hr. of Free Range Time   (Subject to availability) WAIVER REQUIRED ? 1 hr. Private Lesson for only $50 (By appointment) Save time! Fill out your waiver ahead of time before you attend class or visit the Range. https://waiver.smartwaiver.com/w/5df29cee1eb4a/web/
X-ALT-DESC;FMTTYPE=text/html:WI Conceal Carry License Class - Instruction only - Perfect for those who own a firearm and want the certification. DATE: Friday\, June 25\,2021 LOCATION\; DEZ Tactical Arms\, Inc. 1223 South Blvd. (across from Farm &amp\; Fleet) Baraboo\, WI 53913 TIME: 1:00 - 6:00 p.m. Prerequisite: 21 years and older Fee: $70 Maximum: 12 students NOTICE: 72 HOUR CANCELLATION REQUIRED FOR REFUND OR RESCHEDULE Wisconsin Concealed Carry (32 Reciprocating States): This comprehensive course focuses on basic firearm safety and one-on-one safe gun handling skills exercises. We will discuss the attitude\, training and mindset necessary to responsibly own and carry a concealed weapon. Personal defense topics including the legal use of deadly force\, modern concealed carry techniques\, car jacking&rsquo\;s\, home invasions as well as safety in your home and proper storage will be discussed. Course includes Certificate of Training for submission with permit application. There is a $40 application fee at time of application submittal. Instructor has NRA Firearms Instructor Certification. Focus areas within this course include: &bull\; Wisconsin statutory regulations &bull\; Concealed Carry Concepts &bull\; Legal possession and transport &bull\; Universal Firearm Safety &bull\; Safe Firearm Storage &bull\; Safe unloading procedures &bull\; Handgun platform comparisons &bull\; Types of Ammunition &bull\; Concealment methods (holsters\, off-body carry options.) 4+ Hour Class Time REMEMBER: Sign up for any Wisconsin Concealed Carry Class and get these value-added benefits: ? 1/2 hr. of Free Range Time &ndash\; (Subject to availability) WAIVER REQUIRED ? 1 hr. Private Lesson for only $50 (By appointment) Save time! Fill out your waiver ahead of time before you attend class or visit the Range. https://waiver.smartwaiver.com/w/5df29cee1eb4a/web/
LOCATION:DEZ Tactical Arms\, Inc. 1223 South Blvd. (across from Farm & Fleet) Baraboo\, WI 53913
UID:e.1184.26666
SEQUENCE:3
DTSTAMP:20260422T051236Z
URL:http://members.saukprairie.com/events/details/wi-conceal-carry-26666
END:VEVENT

END:VCALENDAR
