BEGIN:VCALENDAR
VERSION:2.0
PRODID:-//ChamberMaster//Event Calendar 2.0//EN
METHOD:PUBLISH
X-PUBLISHED-TTL:P3D
REFRESH-INTERVAL:P3D
CALSCALE:GREGORIAN
BEGIN:VEVENT
DTSTART:20180110T003000Z
DTEND:20180110T013000Z
X-MICROSOFT-CDO-ALLDAYEVENT:FALSE
SUMMARY:WI Homeschooling 101
DESCRIPTION:Homeschooling has been legal in Wisconsin since 1984. \n\n\n\nLook at what our current laws are\, how to follow them\, and where things might be headed. \n\n\n\nPresented by Becky Powers and Paul Mullin.
X-ALT-DESC;FMTTYPE=text/html:<span style="color:rgb(75\, 79\, 86)\; font-family:helvetica\,arial\,sans-serif\; font-size:14px">Homeschooling has been legal in Wisconsin since 1984.&nbsp\;</span><br />\n<br />\n<span style="color:rgb(75\, 79\, 86)\; font-family:helvetica\,arial\,sans-serif\; font-size:14px">Look at what our current laws are\, how to follow them\, and where things might be headed.&nbsp\;</span><br />\n<br />\n<span style="color:rgb(75\, 79\, 86)\; font-family:helvetica\,arial\,sans-serif\; font-size:14px">Presented by Becky Powers and Paul Mullin.</span>
LOCATION:
UID:e.1184.14586
SEQUENCE:3
DTSTAMP:20260424T191858Z
URL:http://members.saukprairie.com/events/details/wi-homeschooling-101-14586
END:VEVENT

END:VCALENDAR
