BEGIN:VCALENDAR
VERSION:2.0
PRODID:-//ChamberMaster//Event Calendar 2.0//EN
METHOD:PUBLISH
X-PUBLISHED-TTL:P3D
REFRESH-INTERVAL:P3D
CALSCALE:GREGORIAN
BEGIN:VEVENT
DTSTART:20170719T180000Z
DTEND:20170719T190000Z
X-MICROSOFT-CDO-ALLDAYEVENT:FALSE
SUMMARY:WI Honey Queen
DESCRIPTION:Learn about beekeeping and the honey industry in Wisconsin from the Queen Bee herself.\n\n\n\nThis event is both family friendly and informative. Please contact Amy for more information at 643-8346.
X-ALT-DESC;FMTTYPE=text/html:<span style="background-color:transparent\; color:rgb(0\, 0\, 0)\; font-family:arial\; font-size:11pt">Learn about beekeeping and the honey industry in Wisconsin from the Queen Bee herself.<br />\n<br />\nThis event is both family friendly and informative.</span><strong> </strong><span style="background-color:transparent\; color:rgb(0\, 0\, 0)\; font-family:arial\; font-size:11pt">Please contact Amy for more information at 643-8346.</span>
LOCATION:515 Water Street Sauk City\, WI 53583 (608) 643-8346
UID:e.1184.11762
SEQUENCE:3
DTSTAMP:20260425T032827Z
URL:http://members.saukprairie.com/events/details/wi-honey-bee-queen-11762
END:VEVENT

END:VCALENDAR
