BEGIN:VCALENDAR
VERSION:2.0
PRODID:-//ChamberMaster//Event Calendar 2.0//EN
METHOD:PUBLISH
X-PUBLISHED-TTL:P3D
REFRESH-INTERVAL:P3D
CALSCALE:GREGORIAN
BEGIN:VEVENT
DTSTART:20180320T190000Z
DTEND:20180320T200000Z
X-MICROSOFT-CDO-ALLDAYEVENT:FALSE
SUMMARY:WI Lighthouses
DESCRIPTION:Authors Ken and Barb Wardius will share their passion for WI Lighthouses with a presentation highlighted by archival and contemporary photography.\n\n \n\nRamp access from rear parking lot. If you need special accommodations\, please call 608-643-8346.
X-ALT-DESC;FMTTYPE=text/html:<p>Authors Ken and Barb Wardius will share their passion for WI Lighthouses with a presentation highlighted by archival and contemporary photography.</p>\n\n<p>&nbsp\;</p>\n\n<p>Ramp access from rear parking lot. If you need special accommodations\, please call 608-643-8346.</p>\n
LOCATION:
UID:e.1184.14665
SEQUENCE:3
DTSTAMP:20260424T161423Z
URL:http://members.saukprairie.com/events/details/wi-lighthouses-14665
END:VEVENT

END:VCALENDAR
