BEGIN:VCALENDAR
VERSION:2.0
PRODID:-//ChamberMaster//Event Calendar 2.0//EN
METHOD:PUBLISH
X-PUBLISHED-TTL:P3D
REFRESH-INTERVAL:P3D
CALSCALE:GREGORIAN
BEGIN:VEVENT
DTSTART:20161021T203000Z
DTEND:20161021T223000Z
X-MICROSOFT-CDO-ALLDAYEVENT:FALSE
SUMMARY:WI Science Festival: Engineering Ed.
DESCRIPTION:Do you have what it takes be an engineer? \n\n\n\nCome and put your skills to the test with our engineering challenges. Or\, you can soar the skies with our paper airplane launcher. All our activities will help you build the type of skills you'll need to become a great engineer\, even if it's only for a day.\n\n\n\nWe invite all families to come and enjoy our afternoon of interactive activities.
X-ALT-DESC;FMTTYPE=text/html:<span style="color: rgb(75\, 79\, 86)\; font-family: helvetica\, arial\, sans-serif\; font-size: 14px\; background-color: rgb(255\, 255\, 255)\;">Do you have what it takes be an engineer?&nbsp\;</span><br style="color: rgb(75\, 79\, 86)\; font-family: helvetica\, arial\, sans-serif\; font-size: 14px\; background-color: rgb(255\, 255\, 255)\;" />\n<br style="color: rgb(75\, 79\, 86)\; font-family: helvetica\, arial\, sans-serif\; font-size: 14px\; background-color: rgb(255\, 255\, 255)\;" />\n<span style="color: rgb(75\, 79\, 86)\; font-family: helvetica\, arial\, sans-serif\; font-size: 14px\; background-color: rgb(255\, 255\, 255)\;">Come and put your skills to the test with our engineering challenges. Or\, you can soar the skies with our paper airplane launcher. All our activities will help you build the type of skills you&rsquo\;ll need to become a great engineer\, even if it&rsquo\;s only for a day.</span><br style="color: rgb(75\, 79\, 86)\; font-family: helvetica\, arial\, sans-serif\; font-size: 14px\; background-color: rgb(255\, 255\, 255)\;" />\n<br style="color: rgb(75\, 79\, 86)\; font-family: helvetica\, arial\, sans-serif\; font-size: 14px\; background-color: rgb(255\, 255\, 255)\;" />\n<span style="color: rgb(75\, 79\, 86)\; font-family: helvetica\, arial\, sans-serif\; font-size: 14px\; background-color: rgb(255\, 255\, 255)\;">We invite all families to come and enjoy our afternoon of interactive activities.</span>
LOCATION:Sauk City Public Library 515 Water St.\, Sauk CIty\, WI 53583
UID:e.1184.9433
SEQUENCE:3
DTSTAMP:20260425T173748Z
URL:http://members.saukprairie.com/events/details/wi-science-festival-engineering-ed-9433
END:VEVENT

END:VCALENDAR
