BEGIN:VCALENDAR
VERSION:2.0
PRODID:-//ChamberMaster//Event Calendar 2.0//EN
METHOD:PUBLISH
X-PUBLISHED-TTL:P3D
REFRESH-INTERVAL:P3D
CALSCALE:GREGORIAN
BEGIN:VEVENT
DTSTART:20171104T150000Z
DTEND:20171104T160000Z
X-MICROSOFT-CDO-ALLDAYEVENT:FALSE
SUMMARY:WI Science Festival: Seize the Night!
DESCRIPTION:Seize the night with local astronomer John Heasley as we learn how to become stargazers! This program will something for everyone from building your own constellation to learning how to name what we see in the sky. The whole family is invited!
X-ALT-DESC;FMTTYPE=text/html:Seize the night with local astronomer John Heasley as we learn how to become stargazers! This program will something for everyone from building your own constellation to learning how to name what we see in the sky. The whole family is invited!
LOCATION:
UID:e.1184.13977
SEQUENCE:3
DTSTAMP:20260424T222346Z
URL:http://members.saukprairie.com/events/details/wi-science-festival-seize-the-night-13977
END:VEVENT

END:VCALENDAR
