BEGIN:VCALENDAR
VERSION:2.0
PRODID:-//ChamberMaster//Event Calendar 2.0//EN
METHOD:PUBLISH
X-PUBLISHED-TTL:P3D
REFRESH-INTERVAL:P3D
CALSCALE:GREGORIAN
BEGIN:VEVENT
DTSTART:20180711T180000Z
DTEND:20180711T200000Z
X-MICROSOFT-CDO-ALLDAYEVENT:FALSE
SUMMARY:Wii Dance Party
DESCRIPTION:Bring your best dance moves and head on down to the library. Challenge your family and friends to dance along to all your favorite songs. Come find out who really rules the dance floor!
X-ALT-DESC;FMTTYPE=text/html:<span style="background-color:transparent\; color:rgb(0\, 0\, 0)\; font-family:arial\; font-size:11pt">Bring your best dance moves and head on down to the library. Challenge your family and friends to dance along to all your favorite songs. Come find out who really rules the dance floor!</span>
LOCATION:515 Water St Sauk City\, WI 53583
UID:e.1184.19398
SEQUENCE:3
DTSTAMP:20260424T082701Z
URL:http://members.saukprairie.com/events/details/wii-dance-party-19398
END:VEVENT

END:VCALENDAR
