BEGIN:VCALENDAR
VERSION:2.0
PRODID:-//ChamberMaster//Event Calendar 2.0//EN
METHOD:PUBLISH
X-PUBLISHED-TTL:P3D
REFRESH-INTERVAL:P3D
CALSCALE:GREGORIAN
BEGIN:VEVENT
DTSTART:20180303T213000Z
DTEND:20180303T223000Z
X-MICROSOFT-CDO-ALLDAYEVENT:FALSE
SUMMARY:Wildtree Freezer Meal Workshop
DESCRIPTION:Come create 10 meals for you and your family to make dinner quick out of the freezer!\n\n\n\nIn order to participate in the workshop\, you must pre order your kit with payment. You can do this either thru messaging us or stopping into the bakery. We will then send you your grocery shopping list and prepping instructions!
X-ALT-DESC;FMTTYPE=text/html:<span style="color: rgb(75\, 79\, 86)\; font-family: Helvetica\, Arial\, sans-serif\; font-size: 14px\;">Come create 10 meals for you and your family to make dinner quick out of the freezer!</span><br />\n<br />\n<span style="color: rgb(29\, 33\, 41)\; font-family: Helvetica\, Arial\, sans-serif\; font-size: 14px\;">In order to participate in the workshop\, you must pre order your kit with payment. You can do this either thru messaging us or stopping into the bakery. We will then send you your grocery shopping list and prepping instructions!</span>
LOCATION:The Mixing Bowl Bakery 525 Water Street\, Sauk City WI 53583
UID:e.1184.14667
SEQUENCE:3
DTSTAMP:20260424T143625Z
URL:http://members.saukprairie.com/events/details/wildtree-freezer-meal-workshop-14667
END:VEVENT

END:VCALENDAR
