BEGIN:VCALENDAR
VERSION:2.0
PRODID:-//ChamberMaster//Event Calendar 2.0//EN
METHOD:PUBLISH
X-PUBLISHED-TTL:P3D
REFRESH-INTERVAL:P3D
CALSCALE:GREGORIAN
BEGIN:VEVENT
DTSTART:20220408T230000Z
DTEND:20220409T030000Z
X-MICROSOFT-CDO-ALLDAYEVENT:FALSE
SUMMARY:Will Play for Food
DESCRIPTION:Join us for a Will Play for Food\n\n\n\nFeaturing blues by The Blubinos and country music by Sauk Prairie's own Shawn Schell.\n\n\n\n*A Ukraine Fundraiser
X-ALT-DESC;FMTTYPE=text/html:Join us for a Will Play for Food<br />\n<br />\nFeaturing blues by The Blubinos and country music by Sauk Prairie&#39\;s own Shawn Schell.<br />\n<br />\n*A Ukraine Fundraiser
LOCATION:1111 Sycamore St. Sauk City\, WI 53583
UID:e.1184.27407
SEQUENCE:3
DTSTAMP:20260421T145729Z
URL:http://members.saukprairie.com/events/details/will-play-for-food-27407
END:VEVENT

END:VCALENDAR
