BEGIN:VCALENDAR
VERSION:2.0
PRODID:-//ChamberMaster//Event Calendar 2.0//EN
METHOD:PUBLISH
X-PUBLISHED-TTL:P3D
REFRESH-INTERVAL:P3D
CALSCALE:GREGORIAN
BEGIN:VEVENT
DTSTART:20220304T163000Z
DTEND:20220304T170000Z
X-MICROSOFT-CDO-ALLDAYEVENT:FALSE
SUMMARY:Willow & Ivy Boutique Ribbon Cutting Ceremony
DESCRIPTION:Please join us as we go LIVE with Willow & Ivy Boutique for their Ribbon Cutting Ceremony!
X-ALT-DESC;FMTTYPE=text/html:<span style="color: rgb(5\, 5\, 5)\; font-family: &quot\;Segoe UI Historic&quot\;\, &quot\;Segoe UI&quot\;\, Helvetica\, Arial\, sans-serif\; font-size: 15px\;">Please join us as we go LIVE with Willow &amp\; Ivy Boutique for their Ribbon Cutting Ceremony!</span>
LOCATION:LIVE on Facebook https://www.facebook.com/events/669729730829515
UID:e.1184.27145
SEQUENCE:3
DTSTAMP:20260421T161229Z
URL:http://members.saukprairie.com/events/details/willow-ivy-boutique-ribbon-cutting-ceremony-27145
END:VEVENT

END:VCALENDAR
