BEGIN:VCALENDAR
VERSION:2.0
PRODID:-//ChamberMaster//Event Calendar 2.0//EN
METHOD:PUBLISH
X-PUBLISHED-TTL:P3D
REFRESH-INTERVAL:P3D
CALSCALE:GREGORIAN
BEGIN:VEVENT
DTSTART:20230407T150000Z
DTEND:20230407T160000Z
X-MICROSOFT-CDO-ALLDAYEVENT:FALSE
SUMMARY:Window Box Craft
DESCRIPTION:Join us for a special springtime craft activity! Decorate a window box for the mother figures in your life\, just in time for Mother's Day. Sign-up is required.
X-ALT-DESC;FMTTYPE=text/html:Join us for a special springtime craft activity! Decorate a window box for the mother figures in your life\, just in time for Mother&rsquo\;s Day. Sign-up is required.
LOCATION:615 Phillips Blvd. Sauk City\, WI 53583
UID:e.1184.30676
SEQUENCE:3
DTSTAMP:20260420T142617Z
URL:http://members.saukprairie.com/events/details/window-box-craft-30676
END:VEVENT

END:VCALENDAR
