BEGIN:VCALENDAR
VERSION:2.0
PRODID:-//ChamberMaster//Event Calendar 2.0//EN
METHOD:PUBLISH
X-PUBLISHED-TTL:P3D
REFRESH-INTERVAL:P3D
CALSCALE:GREGORIAN
BEGIN:VEVENT
DTSTART:20190919T230000Z
DTEND:20190920T010000Z
X-MICROSOFT-CDO-ALLDAYEVENT:FALSE
SUMMARY:WINE TASTING at The Blue Spoon: Duckhorn Vineyards
DESCRIPTION:Upcoming 2019 WINE TASTINGS at the SPOON!\n\nSept. 19 DUCKHORN VINEYARDS\n\nOct. 17 EXPLORING CABERNET\n\n\n\n$20.00. Reservations required: 608.643.0837.\n\nOrder featured wines at discount day of event.\n\nDoors open at 5:15 p.m.\n\nTastings begin at 6:00 p.m.
X-ALT-DESC;FMTTYPE=text/html:Upcoming 2019 WINE TASTINGS at the SPOON!<br />\nSept. 19 DUCKHORN VINEYARDS<br />\nOct. 17 EXPLORING CABERNET<br />\n<br />\n$20.00. Reservations required: 608.643.0837.<br />\nOrder featured wines at discount day of event.<br />\nDoors open at 5:15 p.m.<br />\nTastings begin at 6:00 p.m.
LOCATION:
UID:e.1184.22528
SEQUENCE:3
DTSTAMP:20260423T113633Z
URL:http://members.saukprairie.com/events/details/wine-tasting-at-the-blue-spoon-duckhorn-vineyards-22528
END:VEVENT

END:VCALENDAR
