BEGIN:VCALENDAR
VERSION:2.0
PRODID:-//ChamberMaster//Event Calendar 2.0//EN
METHOD:PUBLISH
X-PUBLISHED-TTL:P3D
REFRESH-INTERVAL:P3D
CALSCALE:GREGORIAN
BEGIN:VEVENT
DTSTART:20180822T170000Z
DTEND:20180823T010000Z
X-MICROSOFT-CDO-ALLDAYEVENT:FALSE
SUMMARY:Wing Wars
DESCRIPTION:Join us for a fun and tasty day of Wing Wars! Each Dept (Sauk City Fire\, Prairie Du Sac Fire and Sauk Prairie EMS) will have their custom unique sauce on hand to sample and purchase and on Wood Bbq smoked wings. The Dept that has the highest amount of wings sold all day will be crowned the Winner of Wing Wars. 50% of all wing sales will be donated to the Depts. We will have Live Music on the American Bbq Stage from Frank Martin Busch (of the band WheelHouse). Bring the family in and support these Americans by eating some tasty wings and listening to some great music!
X-ALT-DESC;FMTTYPE=text/html:<span style="color: rgb(29\, 33\, 41)\; font-family: Helvetica\, Arial\, sans-serif\; font-size: 14px\;">Join us for a fun and tasty day of Wing Wars! Each Dept (Sauk City Fire\, Prairie Du Sac Fire and Sauk Prairie EMS) will have their custom unique sauce on hand to sample and purchase and on Wood Bbq smoked wings. The Dept that has the highest amount of wings sold all day will be crowned the Winner of Wing Wars. 50% of all wing sales will be donated to the Depts. We will have Live Music on the American Bbq Stage from Frank Martin Busch (of the band WheelHouse). Bring the family in and support these Americans by eating some tasty wings and listening to some great music!</span>
LOCATION:Wood BBQ
UID:e.1184.20515
SEQUENCE:3
DTSTAMP:20260424T082450Z
URL:http://members.saukprairie.com/events/details/wing-wars-20515
END:VEVENT

END:VCALENDAR
