BEGIN:VCALENDAR
VERSION:2.0
PRODID:-//ChamberMaster//Event Calendar 2.0//EN
METHOD:PUBLISH
X-PUBLISHED-TTL:P3D
REFRESH-INTERVAL:P3D
CALSCALE:GREGORIAN
BEGIN:VEVENT
DTSTART:20230220T190000Z
DTEND:20230220T200000Z
X-MICROSOFT-CDO-ALLDAYEVENT:FALSE
SUMMARY:Wings of Fire Party
DESCRIPTION:Calling all Wings of Fire fans! Celebrate your favorite dragon series with crafts\, games\, and activities. You do not have to be familiar with the book series to attend - anyone who loves dragons is welcome!
X-ALT-DESC;FMTTYPE=text/html:Calling all Wings of Fire fans! Celebrate your favorite dragon series with crafts\, games\, and activities. You do not have to be familiar with the book series to attend - anyone who loves dragons is welcome!
LOCATION:615 Phillips Blvd
UID:e.1184.29910
SEQUENCE:3
DTSTAMP:20260420T180428Z
URL:http://members.saukprairie.com/events/details/wings-of-fire-party-29910
END:VEVENT

END:VCALENDAR
