BEGIN:VCALENDAR
VERSION:2.0
PRODID:-//ChamberMaster//Event Calendar 2.0//EN
METHOD:PUBLISH
X-PUBLISHED-TTL:P3D
REFRESH-INTERVAL:P3D
CALSCALE:GREGORIAN
BEGIN:VEVENT
DTSTART:20191123T160000Z
DTEND:20191123T183000Z
X-MICROSOFT-CDO-ALLDAYEVENT:FALSE
SUMMARY:Winter Planter Workshop
DESCRIPTION:Traditional deer hunting season kicks off this weekend but we can't let the hunters have all the fun!\n\nJoin Home by Hayley as we create festive winter planters with fragrant greenery! Customize your planter by adding a house number or a monogram. Registration includes your planter\, pot/soil\, fresh cut balsam stems\, faux winterberry\, pinecones\, birch and other embellishments!
X-ALT-DESC;FMTTYPE=text/html:<p>Traditional deer hunting season kicks off this weekend but we can&#39\;t let the hunters have all the fun!</p>\n\n<p>Join Home by Hayley as we create festive winter planters with fragrant greenery! Customize your planter by adding a house number or a monogram. Registration includes your planter\, pot/soil\, fresh cut balsam stems\, faux winterberry\, pinecones\, birch and other embellishments!&nbsp\;</p>\n
LOCATION:
UID:e.1184.23640
SEQUENCE:3
DTSTAMP:20260423T082938Z
URL:http://members.saukprairie.com/events/details/winter-planter-workshop-23640
END:VEVENT

END:VCALENDAR
