BEGIN:VCALENDAR
VERSION:2.0
PRODID:-//ChamberMaster//Event Calendar 2.0//EN
METHOD:PUBLISH
X-PUBLISHED-TTL:P3D
REFRESH-INTERVAL:P3D
CALSCALE:GREGORIAN
BEGIN:VEVENT
DTSTART:20230121T150000Z
DTEND:20230121T190000Z
X-MICROSOFT-CDO-ALLDAYEVENT:FALSE
SUMMARY:Winter Renewal Mini Retreat
DESCRIPTION:Are you feeling?\n\n*Exhausted\n\n*Overwhelmed\n\n*Unclear about what you want\n\n\n\nJoin the Riverway Wellness Cooperative's Winter Renewal mini-Retreat!\n\n\n\nTake a moment to move your body with Yoga and open your mind through meditation with the intention of renewal. Explore how to create a life you love.\n\n\n\nThe day will start with a yoga session followed by 10min massages and meditations and more to help you move into the new year renewed!\n\n\n\nLunch is included and will be catered in by C2 Juicery.
X-ALT-DESC;FMTTYPE=text/html:<span style="background-color:transparent\; color:rgb(0\, 0\, 0)\; font-family:arial\; font-size:20pt">Are you feeling?<br />\n*Exhausted<br />\n*Overwhelmed<br />\n*Unclear about what you want<br />\n<br />\nJoin the Riverway Wellness Cooperative&#39\;s Winter Renewal mini-Retreat!</span><br />\n<br />\n<span style="background-color:transparent\; color:rgb(0\, 0\, 0)\; font-family:arial\; font-size:20pt">Take a moment to move </span><span style="background-color:transparent\; color:rgb(0\, 0\, 0)\; font-family:arial\; font-size:21pt">your body with Yoga and open your mind through meditation with the intention </span><span style="background-color:transparent\; color:rgb(0\, 0\, 0)\; font-family:arial\; font-size:19pt">of renewal.&nbsp\;</span><span style="background-color:transparent\; color:rgb(0\, 0\, 0)\; font-family:arial\; font-size:19pt">Explore how to create a life you love.<br />\n<br />\nThe day will start with a yoga session followed by 10min massages and meditations and more to help you move into the new year renewed!<br />\n<br />\nLunch is included and will be catered in by C2 Juicery.</span><br />\n<br />\n&nbsp\;
LOCATION:Prairie Fire Yoga 560 Park Avenue Prairie du Sac\, WI 53578
UID:e.1184.29849
SEQUENCE:3
DTSTAMP:20260420T232725Z
URL:http://members.saukprairie.com/events/details/winter-renewal-mini-retreat-29849
END:VEVENT

END:VCALENDAR
