BEGIN:VCALENDAR
VERSION:2.0
PRODID:-//ChamberMaster//Event Calendar 2.0//EN
METHOD:PUBLISH
X-PUBLISHED-TTL:P3D
REFRESH-INTERVAL:P3D
CALSCALE:GREGORIAN
BEGIN:VEVENT
DTSTART:20180324T180000Z
DTEND:20180324T210000Z
X-MICROSOFT-CDO-ALLDAYEVENT:FALSE
SUMMARY:Winter Wine Tasting
DESCRIPTION:A casual\, seated tasting of wines paired with light snacks. Seated tastings will be conducted in our Sugarloaf room on Saturdays in winter months. A few additional wine flights are available to taste inside the Winery\, and may be purchased while visiting.\n\nReserve Today!
X-ALT-DESC;FMTTYPE=text/html:<p style="box-sizing: border-box\; margin: 0px\; padding: 0px 0px 1em\; border: 0px\; outline: 0px\; background: 0px 0px rgb(248\, 241\, 220)\; font-size: 16px\; vertical-align: baseline\; text-size-adjust: 100%\; color: rgb(102\, 102\, 102)\; font-family: Lora\, Georgia\, &quot\;Times New Roman&quot\;\, serif\;">A casual\, seated tasting of wines paired with light snacks. Seated tastings will be conducted in our Sugarloaf room on Saturdays in winter months. A few additional wine flights are available to taste inside the Winery\, and may be purchased while visiting.</p>\n\n<p style="box-sizing: border-box\; margin: 0px\; padding: 0px\; border: 0px\; outline: 0px\; background: 0px 0px rgb(248\, 241\, 220)\; font-size: 16px\; vertical-align: baseline\; text-size-adjust: 100%\; color: rgb(102\, 102\, 102)\; font-family: Lora\, Georgia\, &quot\;Times New Roman&quot\;\, serif\;"><a href="https://fareharbor.com/embeds/book/wollersheim/items/54122/?full-items=yes" style="box-sizing: border-box\; margin: 0px\; padding: 0px\; border: 0px\; outline: 0px\; background: 0px 0px\; vertical-align: baseline\; text-size-adjust: 100%\; color: rgb(117\, 38\, 52)\; text-decoration-line: none\;">Reserve Today!</a></p>\n
LOCATION:Wollersheim Winery 7876 Hwy 188 Prairie du Sac\, Wisconsin 53578
UID:e.1184.14658
SEQUENCE:3
DTSTAMP:20260424T161530Z
URL:http://members.saukprairie.com/events/details/winter-wine-tasting-14658
END:VEVENT

END:VCALENDAR
