BEGIN:VCALENDAR
VERSION:2.0
PRODID:-//ChamberMaster//Event Calendar 2.0//EN
METHOD:PUBLISH
X-PUBLISHED-TTL:P3D
REFRESH-INTERVAL:P3D
CALSCALE:GREGORIAN
BEGIN:VEVENT
DTSTART:20161209T003000Z
DTEND:20161209T023000Z
X-MICROSOFT-CDO-ALLDAYEVENT:FALSE
SUMMARY:Winter Wings - Birds of the Baraboo Hills
DESCRIPTION:Winter Wings is a three part Educational Lecture Series Commemorating 30 years of Bald Eagle Watching Days in Sauk Prairie hosted by the Bald Eagle Watching Days Committee and Ferry Bluff Eagle Council. Our first presenter Mike Mossman is a Forest Community Ecologist with the Wisconsin Department of Natural Resources. He will share his insights on the "Birds of the Baraboo Hills"\n\n\n\nWine & Cheese Reception at 6:30pm followed by the presentation at 7pm.\n\nFree & Open to the Public. Donations Welcome!\n\n\n\nJoin us for an educational and relaxing evening at the Tripp Heritage Museum.\n\n\n\nSave the dates for Part 2 and Part 3 of our Lecture Series:\n\nFebrurary 9\, 2017 Art Shegonee - Eagles in Native American Culture \n\nMarch 9\, 2017 Sumner Matteson - Wisconsin's Endangered Terns: To Everything Tern\, Tern\, Tern!
X-ALT-DESC;FMTTYPE=text/html:<span style="font-size:14px">Winter Wings</span> is a three part Educational Lecture Series Commemorating 30 years of Bald Eagle Watching Days in Sauk Prairie hosted by the Bald Eagle Watching Days&nbsp\;Committee and Ferry Bluff Eagle Council. Our first presenter&nbsp\;Mike Mossman is&nbsp\;a Forest Community Ecologist with the Wisconsin Department of Natural Resources. He will share his insights on the &quot\;Birds of the Baraboo Hills&quot\;<br />\n<br />\nWine &amp\; Cheese Reception at 6:30pm followed by the presentation at 7pm.<br />\nFree &amp\; Open to the Public. Donations Welcome!<br />\n<br />\nJoin us for&nbsp\;an educational and relaxing evening at the Tripp Heritage Museum.<br />\n<br />\nSave the dates for Part 2 and Part 3 of our Lecture Series:<br />\nFebrurary 9\, 2017 Art Shegonee - Eagles in Native American Culture&nbsp\;<br />\nMarch 9\, 2017 Sumner Matteson - Wisconsin&#39\;s Endangered Terns: To Everything Tern\, Tern\, Tern!
LOCATION:Tripp Heritage Museum 565 Water St Prairie du Sac\, WI 53578
UID:e.1184.9489
SEQUENCE:3
DTSTAMP:20260425T142402Z
URL:http://members.saukprairie.com/events/details/winter-wings-birds-of-the-baraboo-hills-9489
END:VEVENT

END:VCALENDAR
