BEGIN:VCALENDAR
VERSION:2.0
PRODID:-//ChamberMaster//Event Calendar 2.0//EN
METHOD:PUBLISH
X-PUBLISHED-TTL:P3D
REFRESH-INTERVAL:P3D
CALSCALE:GREGORIAN
BEGIN:VEVENT
DTSTART:20220129T230000Z
DTEND:20220130T020000Z
X-MICROSOFT-CDO-ALLDAYEVENT:FALSE
SUMMARY:Winter Wonderland at the Glen!
DESCRIPTION:Enjoy a hike around the Glen on candle lit walkways!
X-ALT-DESC;FMTTYPE=text/html:<span style="font-family:calibri\,sans-serif\;"><span style="font-size:11.0pt\;">Enjoy a hike around the Glen on candle lit walkways!&nbsp\;</span></span>
LOCATION:Durwards Glen W11876 McLeish Rd. Baraboo\, WI 53913
UID:e.1184.26940
SEQUENCE:3
DTSTAMP:20260421T190608Z
URL:http://members.saukprairie.com/events/details/winter-wonderland-at-the-glen-26940
END:VEVENT

END:VCALENDAR
