BEGIN:VCALENDAR
VERSION:2.0
PRODID:-//ChamberMaster//Event Calendar 2.0//EN
METHOD:PUBLISH
X-PUBLISHED-TTL:P3D
REFRESH-INTERVAL:P3D
CALSCALE:GREGORIAN
BEGIN:VEVENT
DTSTART:20240106T160000Z
DTEND:20240106T180000Z
X-MICROSOFT-CDO-ALLDAYEVENT:FALSE
SUMMARY:Winter Wonderland Party
DESCRIPTION:Celebrate the beauty of the winter season with us at the George Culver Community Library with a winter themed movie\, craft\, and snack! We'll be showing the award winning movie The Snowman by Raymond Briggs\, a beautiful picture book brought to life for all ages to enjoy. Come chill out with us at the library and warm up with some indoor winter fun!
X-ALT-DESC;FMTTYPE=text/html:Celebrate the beauty of the winter season with us at the George Culver Community Library with a winter themed movie\, craft\, and snack! We&#39\;ll be showing the award winning movie The Snowman by Raymond Briggs\, a beautiful picture book brought to life for all ages to enjoy. Come chill out with us at the library and warm up with some indoor winter fun!
LOCATION:615 Phillips Blvd\, Sauk City\, WI 53583
UID:e.1184.31422
SEQUENCE:3
DTSTAMP:20260420T020317Z
URL:http://members.saukprairie.com/events/details/winter-wonderland-party-31422
END:VEVENT

END:VCALENDAR
