BEGIN:VCALENDAR
VERSION:2.0
PRODID:-//ChamberMaster//Event Calendar 2.0//EN
METHOD:PUBLISH
X-PUBLISHED-TTL:P3D
REFRESH-INTERVAL:P3D
CALSCALE:GREGORIAN
BEGIN:VEVENT
DTSTART:20221202T160000Z
DTEND:20221202T170000Z
X-MICROSOFT-CDO-ALLDAYEVENT:FALSE
SUMMARY:Winter Woodland Animal Craft
DESCRIPTION:Create your favorite winter woodland creature this holiday season. Kids can design a piece of wood and add some fun decorations to bring their creature to life.\n\nRecommended for kids ages 6 and up. Registration is required. Call 608-643-8346 or visit the library to sign up today!
X-ALT-DESC;FMTTYPE=text/html:Create your favorite winter woodland creature this holiday season. Kids can design a piece of wood and add some fun decorations to bring their creature to life.<br />\nRecommended for kids ages 6 and up. Registration is required. Call 608-643-8346 or visit the library to sign up today!
LOCATION:615 Phillips Blvd. Sauk City\, WI 53583
UID:e.1184.28783
SEQUENCE:3
DTSTAMP:20260421T004509Z
URL:http://members.saukprairie.com/events/details/winter-woodland-animal-craft-28783
END:VEVENT

END:VCALENDAR
