BEGIN:VCALENDAR
VERSION:2.0
PRODID:-//ChamberMaster//Event Calendar 2.0//EN
METHOD:PUBLISH
X-PUBLISHED-TTL:P3D
REFRESH-INTERVAL:P3D
CALSCALE:GREGORIAN
BEGIN:VEVENT
DTSTART:20160409T000000Z
DTEND:20160409T020000Z
X-MICROSOFT-CDO-ALLDAYEVENT:FALSE
SUMMARY:Wisconsin Family Ties Benefit Concert
DESCRIPTION:Featuring Nikki Weigel\, Eric Schultz\, Matt Weis\, and friends.\n\n\n\nThe concert to benefit Wisconsin Family Ties will be a first! Being that Wisconsin Family Ties is an organization run by families for families of children with emotional or behavioral challenges\, the songs will be themed to express some of the challenges and triumphs we see in our work every day. One of our organizations' biggest jobs is to help the community see struggles through the eyes of a child. The talent for the evening will aim to do just that through the music they have chosen. Taking you on a journey of connection through song\, making you feel like part of our family in this truly touching house concert. You will be uplifted\, empowered\, and motivated through songs about support\, the power of words\, having a positive attitude and inclusion! Delicious treats will be provided by the Blue Spoon and there will be a suggested donation at the door.
X-ALT-DESC;FMTTYPE=text/html:<span style="color:rgb(78\, 86\, 101)\; font-family:helvetica\,arial\,sans-serif\; font-size:14px">Featuring Nikki Weigel\, Eric Schultz\, Matt Weis\, and friends.</span><br />\n<br />\n<span style="color:rgb(78\, 86\, 101)\; font-family:helvetica\,arial\,sans-serif\; font-size:14px">The concert to benefit Wisconsin Family Ties will be a first! Being that Wisconsin Family Ties is an organization run by families for families of children with emotional or behavioral challenges\, the songs will be themed to express some of the challenges and triumphs we see in our work every day. One of our organizations&rsquo\; biggest jobs is to help the community see struggles through the eyes of a child. The talent for the evening will aim to do just that through the music they have chosen. Taking you on a journey of connection through song\, making you feel like part of our family in this truly touching house concert. You will be uplifted\, empowered\, and motivated through songs about support\, the power of words\, having a positive attitude and inclusion! Delicious treats will be provided by the Blue Spoon and there will be a suggested donation at the door.</span>
LOCATION:River Arts\, Inc. 590 Water St. Prairie du Sac\, WI
UID:e.1184.8399
SEQUENCE:3
DTSTAMP:20260426T033834Z
URL:http://members.saukprairie.com/events/details/wisconsin-family-ties-benefit-concert-04-08-2016-8399
END:VEVENT

END:VCALENDAR
