BEGIN:VCALENDAR
VERSION:2.0
PRODID:-//ChamberMaster//Event Calendar 2.0//EN
METHOD:PUBLISH
X-PUBLISHED-TTL:P3D
REFRESH-INTERVAL:P3D
CALSCALE:GREGORIAN
BEGIN:VEVENT
DTSTART:20171017T233000Z
DTEND:20171018T010000Z
X-MICROSOFT-CDO-ALLDAYEVENT:FALSE
SUMMARY:Wisconsin Ghosts and the Afterlife
DESCRIPTION:Have you ever wondered what goes bump in the middle of the night in your backyard? Come and learn about all of Wisconsin's myths and legends from co-author Terry Fish which are featured in his book The Wisconsin Road Guide to Haunted Locations.\n\n\nIf you are in need of accommodations\, the library would like to help! Please contact us at 608-643-8346 as soon as possible with the assistance you will need. The basement is accessible via a ramp by our rear parking lot. This door will be unlocked at least 10 minutes before the program begins.
X-ALT-DESC;FMTTYPE=text/html:<p>Have you ever wondered what goes bump in the middle of the night in your backyard? Come and learn about all of Wisconsin&#39\;s myths and legends from co-author Terry Fish which are featured in his book&nbsp\;<em>The Wisconsin Road Guide to Haunted Locations</em>.</p>\n\n<hr />\n<p>If you are in need of accommodations\, the library would like to help! Please contact us at 608-643-8346 as soon as possible with the assistance you will need. The basement is accessible via a ramp by our rear parking lot. This door will be unlocked at least 10 minutes before the program begins.</p>\n
LOCATION:Sauk City Public Library (Downstairs) 515 Water Street Sauk City\, WI 53583
UID:e.1184.9373
SEQUENCE:3
DTSTAMP:20260424T222108Z
URL:http://members.saukprairie.com/events/details/wisconsin-ghosts-and-the-afterlife-9373
END:VEVENT

END:VCALENDAR
