BEGIN:VCALENDAR
VERSION:2.0
PRODID:-//ChamberMaster//Event Calendar 2.0//EN
METHOD:PUBLISH
X-PUBLISHED-TTL:P3D
REFRESH-INTERVAL:P3D
CALSCALE:GREGORIAN
BEGIN:VEVENT
DTSTART:20181026T000000Z
DTEND:20181026T013000Z
X-MICROSOFT-CDO-ALLDAYEVENT:FALSE
SUMMARY:Wisconsin Hometown Stories: Sauk Prairie
DESCRIPTION:Help us make history! Wisconsin Public Television and partner organizations are gathering stories and ideas for a new documentary on Sauk City and Prairie du Sac to be broadcast statewide in 2019. Join us and share your own personal stories about the people and places that tell the unique history of Sauk Prairie. The ideas and stories shared at these events play an important role in the development of the program. Questions? Call 608-263-2185.
X-ALT-DESC;FMTTYPE=text/html:<span style="font-family:arial\; font-size:11pt">Help us make history! Wisconsin Public Television and partner organizations are gathering stories and ideas for a new documentary on Sauk City and Prairie du Sac to be broadcast statewide in 2019. Join us and share your own personal stories about the people and places that tell the unique history of Sauk Prairie. The ideas and stories shared at these events play an important role in the development of the program. Questions? Call 608-263-2185.</span>
LOCATION:Tripp Heritage Museum 565 Water St. Prairie du Sac\, WI 53578
UID:e.1184.21367
SEQUENCE:3
DTSTAMP:20260424T034203Z
URL:http://members.saukprairie.com/events/details/wisconsin-hometown-stories-sauk-prairie-21367
END:VEVENT

END:VCALENDAR
