BEGIN:VCALENDAR
VERSION:2.0
PRODID:-//ChamberMaster//Event Calendar 2.0//EN
METHOD:PUBLISH
X-PUBLISHED-TTL:P3D
REFRESH-INTERVAL:P3D
CALSCALE:GREGORIAN
BEGIN:VEVENT
DTSTART:20220928T210000Z
DTEND:20220928T233000Z
X-MICROSOFT-CDO-ALLDAYEVENT:FALSE
SUMMARY:Wisconsin River District New Cub Scout Rocket Launch
DESCRIPTION:This event is mainly for all NEW Cub Scouts! Every new Cub Scout will receive a "build-your-own" rocket at a fall recruitment sign-up (9/17/22). This event is an opportunity for those new Cubs to launch their rocket and have fun with other new Cub Scouts. Existing Cub Scouts will be able to participate by purchasing a rocket for $5. Anyone interested in joining Cub Scouts are welcome to watch the launches\, learn more about the organization\, and register to join!
X-ALT-DESC;FMTTYPE=text/html:This event is mainly for all NEW Cub Scouts! Every new Cub Scout will receive a &quot\;build-your-own&quot\; rocket at a fall recruitment sign-up (9/17/22). This event is an opportunity for those new Cubs to launch their rocket and have fun with other new Cub Scouts. Existing Cub Scouts will be able to participate by purchasing a rocket for $5. Anyone interested in joining Cub Scouts are welcome to watch the launches\, learn more about the organization\, and register to join!
LOCATION:Meyer Oak Grove Park
UID:e.1184.28677
SEQUENCE:3
DTSTAMP:20260421T061401Z
URL:http://members.saukprairie.com/events/details/wisconsin-river-district-new-cub-scout-rocket-launch-28677
END:VEVENT

END:VCALENDAR
