BEGIN:VCALENDAR
VERSION:2.0
PRODID:-//ChamberMaster//Event Calendar 2.0//EN
METHOD:PUBLISH
X-PUBLISHED-TTL:P3D
REFRESH-INTERVAL:P3D
CALSCALE:GREGORIAN
BEGIN:VEVENT
DTSTART:20230425T233000Z
DTEND:20230426T010000Z
X-MICROSOFT-CDO-ALLDAYEVENT:FALSE
SUMMARY:Wisconsin's Native Mussels : Our Freshwater Treasures
DESCRIPTION:Lecture with Conservation Biologist Lisie Kitchel\n\nDid you know that mussels are one of the most endangered groups of animals\, and that 24 of Wisconsin's 50 species are endangered\, threatened or of special concern? Learn all about this underappreciated animal and efforts to restore populations right here in our backyard. This lecture is sponsored by the Rooted in Conservation Fund through the Community Foundation of South Central Wisconsin.
X-ALT-DESC;FMTTYPE=text/html:Lecture with Conservation Biologist Lisie Kitchel<br />\nDid you know that mussels are one of the most endangered groups of animals\, and that 24 of Wisconsin&#39\;s 50 species are endangered\, threatened or of special concern? Learn all about this underappreciated animal and efforts to restore populations right here in our backyard. This lecture is sponsored by the Rooted in Conservation Fund through the Community Foundation of South Central Wisconsin.&nbsp\;
LOCATION:615 Phillips Blvd. Sauk City\, WI 53583
UID:e.1184.30714
SEQUENCE:3
DTSTAMP:20260420T145707Z
URL:http://members.saukprairie.com/events/details/wisconsin-s-native-mussels-our-freshwater-treasures-30714
END:VEVENT

END:VCALENDAR
