BEGIN:VCALENDAR
VERSION:2.0
PRODID:-//ChamberMaster//Event Calendar 2.0//EN
METHOD:PUBLISH
X-PUBLISHED-TTL:P3D
REFRESH-INTERVAL:P3D
CALSCALE:GREGORIAN
BEGIN:VEVENT
DTSTART:20190813T190000Z
DTEND:20190813T200000Z
X-MICROSOFT-CDO-ALLDAYEVENT:FALSE
SUMMARY:Wisconsin's One Room Schools
DESCRIPTION:Come join Wisconsin State Historical Society speaker Susan Apps-Bodilly for a presentation on Wisconsin's one room schools.
X-ALT-DESC;FMTTYPE=text/html:Come join Wisconsin State Historical Society speaker Susan Apps-Bodilly for a presentation on Wisconsin&rsquo\;s one room schools.
LOCATION:515 Water Street Sauk City\, WI 53583
UID:e.1184.22636
SEQUENCE:3
DTSTAMP:20260423T130840Z
URL:http://members.saukprairie.com/events/details/wisconsin-s-one-room-schools-22636
END:VEVENT

END:VCALENDAR
