BEGIN:VCALENDAR
VERSION:2.0
PRODID:-//ChamberMaster//Event Calendar 2.0//EN
METHOD:PUBLISH
X-PUBLISHED-TTL:P3D
REFRESH-INTERVAL:P3D
CALSCALE:GREGORIAN
BEGIN:VEVENT
DTSTART:20181114T230000Z
DTEND:20181115T010000Z
X-MICROSOFT-CDO-ALLDAYEVENT:FALSE
SUMMARY:Wisconsin's Winter Wonderlands Video Premier
DESCRIPTION:Video Premier Featuring Merrimac & Sauk Prairie\n\n\n\nNOVEMBER\n\n14TH 5-7PM\n\nNetworking: 5-5:45pm\n\nVideo Premier: 6-6:45pm\n\n\n\ncash bar | rsvp: spacc@saukprairie.com
X-ALT-DESC;FMTTYPE=text/html:Video Premier Featuring Merrimac &amp\; Sauk Prairie<br />\n<br />\nNOVEMBER<br />\n14TH 5-7PM<br />\nNetworking: 5-5:45pm<br />\nVideo Premier: 6-6:45pm<br />\n<br />\ncash bar | rsvp: spacc@saukprairie.com
LOCATION:Old School House E13887 County Road DL\, Merrimac\, WI 53561
UID:e.1184.21424
SEQUENCE:3
DTSTAMP:20260424T022315Z
URL:http://members.saukprairie.com/events/details/wisconsin-s-winter-wonderlands-video-premier-21424
END:VEVENT

END:VCALENDAR
