BEGIN:VCALENDAR
VERSION:2.0
PRODID:-//ChamberMaster//Event Calendar 2.0//EN
METHOD:PUBLISH
X-PUBLISHED-TTL:P3D
REFRESH-INTERVAL:P3D
CALSCALE:GREGORIAN
BEGIN:VEVENT
DTSTART;VALUE=DATE:20210904
DTEND;VALUE=DATE:20210905
TRANSP:TRANSPARENT
X-MICROSOFT-CDO-ALLDAYEVENT:TRUE
SUMMARY:Wisconsin State Cow Chip Throw 2021
DESCRIPTION:Approximately 40\,000 people attend the Wisconsin State Cow Chip throw each year.  The current Cow Chip throw state record is 248 feet.  Featuring two stages of entertainment\, arts and crafts fair\, food booths\, 5k & 10k run and much more!\n\n \nSaturday   September 4th\n\n \n\n \n\n  Food Court: Open all day   See vendor list here\n\n  Children's Game Tent: 9:00 AM   6:00 PM\n\n  5K Run/Walk & 10K Run: 8:00 AM (registration at 6:30)\n\n  See race page for details and to sign up.\n\n  Sam Ness: 9:30am   12:00pm\n\n  Cow Chip Breakfast: 8:00am\n\n  Volleyball Tournament: 8:30am Registration\, 9:00am Start. Download 2021 registration form here.\n\n  Arts & Crafts Fair: 9:00 AM   5:00 PM (over 125 exhibits)\n\n  Ardan James the Animated Illusionist: Noon\n\n  Truly Remarkable Look Comedy Juggler: 1:00 PM\, 2:00 PM & 3:00PM\n\n  Children's Chip Chucking: 9:00 AM   noon (costs $2.00)\n\n  The Neverly Brothers: 1:00   4:00 PM\n\n  Adult & Team Cow Chip Throw: 1:00 PM\n\n  Kid's Pedal Pull: 2:30 PM\n\n  Mark Hayward Juggler Yo-Yoer: 3:30 PM\n\n  Corporate Throw: 5:00 PM (Click here to sign up)\n\n  Universal Sound Dance Band: 4:30   7:30 PM\n\nPlease stay turd for updates!
X-ALT-DESC;FMTTYPE=text/html:Approximately 40\,000 people attend the Wisconsin State Cow Chip throw each year.&nbsp\; The current Cow Chip throw state record is 248 feet.&nbsp\; Featuring two stages of entertainment\, arts and crafts fair\, food booths\, 5k &amp\; 10k run and much more!<br />\n&nbsp\;\n<h2 style="padding: 0px\; margin: 0px 0px 10px\; clear: none\; color: rgb(142\, 2\, 24)\; font-variant-numeric: normal\; font-variant-east-asian: normal\; font-stretch: normal\; font-size: 36px\; line-height: 42px\; font-family: &quot\;Roboto Slab&quot\;\, Helvetica\, Arial\, Verdana\, sans-serif\;">Saturday &bull\; September 4th</h2>\n\n<p style="padding: 0px\; margin: 0px 0px 10px\;">&nbsp\;</p>\n\n<div class="hr-thin" style="padding: 0px\; margin: 0px auto\; clear: both\; height: 9px\; line-height: 9px\; border-style: solid none none\; border-top-width: 1px\; border-top-color: rgb(0\, 0\, 0)\; border-left-width: initial\; border-left-color: initial\; border-right-width: initial\; border-right-color: initial\; border-bottom-width: initial\; border-bottom-color: initial\;">&nbsp\;</div>\n\n<p style="padding: 0px\; margin: 0px 0px 10px\; color: rgb(0\, 0\, 0)\; font-family: Arial\, Helvetica\, Arial\, Verdana\, sans-serif\; font-size: 15px\;"><span style="padding: 0px\; margin: 0px\; font-weight: 700\;">&bull\;&nbsp\;Food Court:&nbsp\;</span>Open all day &ndash\; See vendor list&nbsp\;<a href="https://www.wiscowchip.com/food-court/" rel="noopener noreferrer" style="padding: 0px\; margin: 0px\; text-decoration-line: none\; color: rgb(142\, 2\, 24)\;" target="_blank">here</a><br style="padding: 0px\; margin: 0px\;" />\n<span style="padding: 0px\; margin: 0px\; font-weight: 700\;">&bull\; Children&rsquo\;s Game Tent:&nbsp\;</span>9:00 AM &ndash\; 6:00 PM<br style="padding: 0px\; margin: 0px\;" />\n<span style="padding: 0px\; margin: 0px\; font-weight: 700\;">&bull\;</span>&nbsp\;<span style="padding: 0px\; margin: 0px\; font-weight: 700\;">5K Run/Walk &amp\; 10K Run</span>: 8:00 AM (registration at 6:30)<br style="padding: 0px\; margin: 0px\;" />\n<em style="padding: 0px\; margin: 0px\;">&nbsp\; See&nbsp\;<a href="https://www.wiscowchip.com/index.php/classic-run-walk" rel="noopener noreferrer" style="padding: 0px\; margin: 0px\; text-decoration-line: none\; color: rgb(142\, 2\, 24)\;" target="_blank">race page</a>&nbsp\;for details and to sign up.</em><br style="padding: 0px\; margin: 0px\;" />\n<span style="padding: 0px\; margin: 0px\; font-weight: 700\;">&bull\;&nbsp\;<a href="https://www.youtube.com/watch?v=m4slKX8BrEk" style="padding: 0px\; margin: 0px\; text-decoration-line: none\; color: rgb(142\, 2\, 24)\;">Sam Ness</a>:&nbsp\;</span>9:30am &ndash\; 12:00pm<br style="padding: 0px\; margin: 0px\;" />\n<span style="padding: 0px\; margin: 0px\; font-weight: 700\;">&bull\;</span><span style="padding: 0px\; margin: 0px\; font-weight: 700\;">&nbsp\;Cow Chip Breakfast:&nbsp\;</span>8:00am<br style="padding: 0px\; margin: 0px\;" />\n<span style="padding: 0px\; margin: 0px\; font-weight: 700\;">&bull\; Volleyball Tournament:&nbsp\;</span>8:30am Registration\, 9:00am Start.&nbsp\;<em style="padding: 0px\; margin: 0px\;">Download 2021 registration form&nbsp\;<a href="https://www.wiscowchip.com/wp-content/uploads/2021/05/Volleyball-Fillable-Flyer-Cow-Chip-2021.pdf" style="padding: 0px\; margin: 0px\; text-decoration-line: none\; color: rgb(142\, 2\, 24)\;">here</a>.</em><br style="padding: 0px\; margin: 0px\;" />\n<span style="padding: 0px\; margin: 0px\; font-weight: 700\;">&bull\;&nbsp\;</span><span style="padding: 0px\; margin: 0px\; font-weight: 700\;">Arts &amp\; Crafts Fair:</span>&nbsp\;9:00 AM &ndash\; 5:00 PM (over 125 exhibits)<br style="padding: 0px\; margin: 0px\;" />\n<span style="padding: 0px\; margin: 0px\; font-weight: 700\;">&bull\;&nbsp\;</span><span style="padding: 0px\; margin: 0px\; font-weight: 700\;"><a href="https://ardanjames.com/" style="padding: 0px\; margin: 0px\; text-decoration-line: none\; color: rgb(142\, 2\, 24)\;">Ardan James the Animated Illusionist</a>:</span>&nbsp\;Noon<br style="padding: 0px\; margin: 0px\;" />\n<span style="padding: 0px\; margin: 0px\; font-weight: 700\;">&bull\; Truly Remarkable Look Comedy Juggler:</span>&nbsp\;1:00 PM\, 2:00 PM &amp\; 3:00PM<br style="padding: 0px\; margin: 0px\;" />\n<span style="padding: 0px\; margin: 0px\; font-weight: 700\;">&bull\; Children&rsquo\;s Chip Chucking:</span>&nbsp\;9:00 AM &ndash\; noon (costs $2.00)<br style="padding: 0px\; margin: 0px\;" />\n<span style="padding: 0px\; margin: 0px\; font-weight: 700\;">&bull\;&nbsp\;<a href="http://www.theneverlybrothers.com/videos.html" style="padding: 0px\; margin: 0px\; text-decoration-line: none\; color: rgb(142\, 2\, 24)\;">The Neverly Brothers</a>:&nbsp\;</span>1:00 &ndash\; 4:00 PM<br style="padding: 0px\; margin: 0px\;" />\n<span style="padding: 0px\; margin: 0px\; font-weight: 700\;">&bull\; Adult &amp\; Team Cow Chip Throw:</span>&nbsp\;1:00 PM<br style="padding: 0px\; margin: 0px\;" />\n<span style="padding: 0px\; margin: 0px\; font-weight: 700\;">&bull\;&nbsp\;Kid&rsquo\;s Pedal Pull:</span>&nbsp\;2:30 PM<br style="padding: 0px\; margin: 0px\;" />\n<span style="padding: 0px\; margin: 0px\; font-weight: 700\;">&bull\; Mark Hayward Juggler Yo-Yoer:</span>&nbsp\;3:30 PM<br style="padding: 0px\; margin: 0px\;" />\n<span style="padding: 0px\; margin: 0px\; font-weight: 700\;">&bull\;&nbsp\;Corporate Throw:&nbsp\;</span>5:00 PM (<a href="https://www.wiscowchip.com/wp-content/uploads/2021/07/2021CorpCowChip.pdf" style="padding: 0px\; margin: 0px\; text-decoration-line: none\; color: rgb(142\, 2\, 24)\;">Click here to sign up</a>)<br style="padding: 0px\; margin: 0px\;" />\n<span style="padding: 0px\; margin: 0px\; font-weight: 700\;">&bull\; Universal Sound Dance Band:</span>&nbsp\;4:30 &ndash\; 7:30 PM</p>\n\n<h3 class="jp-title" style="padding: 0px\; margin: 0px\; clear: none\; color: rgb(142\, 2\, 24)\; font-variant-numeric: normal\; font-variant-east-asian: normal\; font-stretch: normal\; font-size: 26px\; line-height: 34px\; font-family: &quot\;Roboto Slab&quot\;\, Helvetica\, Arial\, Verdana\, sans-serif\;">Please stay turd for updates!</h3>\n
LOCATION:Marion Park Located at Grand Avenue and First Street Prairie du Sac\, WI 53578
UID:e.1184.26681
SEQUENCE:3
DTSTAMP:20260421T230952Z
URL:http://members.saukprairie.com/events/details/wisconsin-state-cow-chip-throw-2021-26681
END:VEVENT

END:VCALENDAR
