BEGIN:VCALENDAR
VERSION:2.0
PRODID:-//ChamberMaster//Event Calendar 2.0//EN
METHOD:PUBLISH
X-PUBLISHED-TTL:P3D
REFRESH-INTERVAL:P3D
CALSCALE:GREGORIAN
BEGIN:VEVENT
DTSTART;VALUE=DATE:20220902
DTEND;VALUE=DATE:20220904
TRANSP:TRANSPARENT
X-MICROSOFT-CDO-ALLDAYEVENT:TRUE
SUMMARY:Wisconsin State Cow Chip Throw 2022
DESCRIPTION:Approximately 40\,000 people attend the Wisconsin State Cow Chip throw each year.  The current Cow Chip throw state record is 248 feet.  Featuring a parade\, stages for entertainment\, arts and crafts fair\, food booths\, 5k & 10k run and much more!\n\nFriday   September 2nd\n\n \n\n  Tony Rocker: 5:00 PM   7:30 PM\n\n  Corporate Throw: 5:30 PM (Click here to sign up)\n\n  John King Band: 8:30 PM   11:30 PM\n\n \n\n\n\n\nSaturday   September 3rd\n\n \n\n  Food Court: Open all day   See vendor list here\n\n  5K Run/Walk & 10K Run: 8:00 AM (registration at 6:30)\n\n  See race page for details and to sign up.\n\n  Children's Game Tent: 9:00 AM   6:00 PM\n\n  Children's Chip Chucking: 9:00 AM   Noon ($2.00)\n\n  Cow Chip Breakfast: 8:00am\n\n  Volleyball Tournament: 8:30am Registration\, 9:00am Start. Download 2022 registration form here.\n\n  Arts & Crafts Fair: 9:00 AM   5:00 PM (over 125 exhibits)\n\n  Mixed Nuts: 10:00 & 11:00 AM (Kids Area)\n\n  Angela Puerta: 9:30   11:30 AM\n\n  Tournament of Chips Parade: 12:00 PM\n\n  Adult & Team Cow Chip Throw: 1:00 PM\n\n  German Wheel\, Tight Rope\, Trapeze: 1:30   3:30 PM (Kids Stage)\n\n  Truly Remarkable Loon Comedy Juggler: 1:30\, 2:30\, 3:30 PM (Kids Stage)\n\n  Dan Lepien: 1:30   4:30 PM\n\n  Kid's Pedal Pull: 2:30 PM\n\n  Mark Hayward Juggler Yo-Yoer: 3:30 PM\n\n  52nd Street Band   A Billy Joel Tribute: 5:00   7:30 PM\n\n  The Cheap Shots: 8:30   11:30 PM\n\nPlease stay turd for updates!
X-ALT-DESC;FMTTYPE=text/html:Approximately 40\,000 people attend the Wisconsin State Cow Chip throw each year.&nbsp\; The current Cow Chip throw state record is 248 feet.&nbsp\; Featuring a parade\, stages for entertainment\, arts and crafts fair\, food booths\, 5k &amp\; 10k run and much more!\n<div class="module-header" style="padding: 0px\; margin: 0px\; color: rgb(0\, 0\, 0)\; font-family: Arial\, Helvetica\, Arial\, Verdana\, sans-serif\; font-size: 15px\;">\n<h2 style="padding: 0px\; margin: 0px 0px 10px\; clear: none\; color: var(--the7-h2-color)\; font: var(--the7-h2-font)\; text-transform: var(--the7-h2-text-transform)\; letter-spacing: var(--the7-h2-letter-spacing)\; word-spacing: var(--the7-h2-word-spacing)\; text-decoration: var(--the7-h2-text-decoration)\;"><strong>Friday &bull\; September 2nd</strong></h2>\n\n<div class="hr-thin" style="padding: 0px\; margin: 0px auto\; clear: both\; height: 9px\; line-height: 9px\; border-style: solid none none\; border-top-width: 1px\; border-top-color: \; border-left-width: initial\; border-left-color: initial\; border-right-width: initial\; border-right-color: initial\; border-bottom-width: initial\; border-bottom-color: initial\;">&nbsp\;</div>\n\n<p style="padding: 0px\; margin: 0px 0px 10px\;"><span style="padding: 0px\; margin: 0px\; font-weight: 700\;">&bull\;&nbsp\;<a href="https://www.facebook.com/watch/?ref=search&amp\;v=224233226287480&amp\;external_log_id=c21c1196-e10a-4f13-8a9c-b96a9fac3369&amp\;q=Tony%20Rocker%20and%20the%20Comeback%20special" style="padding: 0px\; margin: 0px\; text-decoration-line: none\; color: var(--the7-links-color)\;"><span style="color:#0000FF\;">Tony Rocker</span></a>:&nbsp\;</span>5:00 PM &ndash\; 7:30 PM<br style="padding: 0px\; margin: 0px\;" />\n<span style="padding: 0px\; margin: 0px\; font-weight: 700\;">&bull\; Corporate Throw:&nbsp\;</span>5:30 PM (<a href="https://www.wiscowchip.com/wp-content/uploads/2022/04/2022-Corp-Cow-Chip-Throw-Entry-Form.pdf" style="padding: 0px\; margin: 0px\; text-decoration-line: none\; color: var(--the7-links-color)\;"><span style="color:#0000FF\;">Click here to sign up</span></a>)<br style="padding: 0px\; margin: 0px\;" />\n<span style="padding: 0px\; margin: 0px\; font-weight: 700\;">&bull\;&nbsp\;<a href="https://www.johnkingcountry.com/epk" style="padding: 0px\; margin: 0px\; text-decoration-line: none\; color: var(--the7-links-color)\;"><span style="color:#0000FF\;">John King Band</span></a>:&nbsp\;</span>8:30 PM &ndash\; 11:30 PM</p>\n\n<p style="padding: 0px\; margin: 0px\;">&nbsp\;</p>\n</div>\n\n<div class="module-content clearfix" style="padding: 0px\; margin: 0px\; color: rgb(0\, 0\, 0)\; font-family: Arial\, Helvetica\, Arial\, Verdana\, sans-serif\; font-size: 15px\;">\n<div class="custom" style="padding: 0px\; margin: 0px\;">\n<h2 style="padding: 0px\; margin: 0px 0px 10px\; clear: none\; color: var(--the7-h2-color)\; font: var(--the7-h2-font)\; text-transform: var(--the7-h2-text-transform)\; letter-spacing: var(--the7-h2-letter-spacing)\; word-spacing: var(--the7-h2-word-spacing)\; text-decoration: var(--the7-h2-text-decoration)\;"><strong>Saturday &bull\; September 3rd</strong></h2>\n\n<div class="hr-thin" style="padding: 0px\; margin: 0px auto\; clear: both\; height: 9px\; line-height: 9px\; border-style: solid none none\; border-top-width: 1px\; border-top-color: \; border-left-width: initial\; border-left-color: initial\; border-right-width: initial\; border-right-color: initial\; border-bottom-width: initial\; border-bottom-color: initial\;">&nbsp\;</div>\n\n<p style="padding: 0px\; margin: 0px 0px 10px\;"><span style="padding: 0px\; margin: 0px\; font-weight: 700\;">&bull\;&nbsp\;Food Court:&nbsp\;</span>Open all day &ndash\; See vendor list&nbsp\;<a href="https://www.wiscowchip.com/food-court/" rel="noopener noreferrer" style="padding: 0px\; margin: 0px\; text-decoration-line: none\; color: var(--the7-links-color)\;" target="_blank"><span style="color:#0000CD\;">here</span></a><br style="padding: 0px\; margin: 0px\;" />\n<span style="padding: 0px\; margin: 0px\; font-weight: 700\;">&bull\;</span>&nbsp\;<span style="padding: 0px\; margin: 0px\; font-weight: 700\;">5K Run/Walk &amp\; 10K Run</span>: 8:00 AM (registration at 6:30)<br style="padding: 0px\; margin: 0px\;" />\n<em style="padding: 0px\; margin: 0px\;">&nbsp\; See&nbsp\;<a href="https://www.wiscowchip.com/index.php/classic-run-walk" rel="noopener noreferrer" style="padding: 0px\; margin: 0px\; text-decoration-line: none\; color: var(--the7-links-color)\;" target="_blank"><span style="color:#0000FF\;">race page</span></a>&nbsp\;for details and to sign up.</em><br style="padding: 0px\; margin: 0px\;" />\n<span style="padding: 0px\; margin: 0px\; font-weight: 700\;">&bull\; Children&rsquo\;s Game Tent:&nbsp\;</span>9:00 AM &ndash\; 6:00 PM<br style="padding: 0px\; margin: 0px\;" />\n<span style="padding: 0px\; margin: 0px\; font-weight: 700\;">&bull\; Children&rsquo\;s Chip Chucking:&nbsp\;</span>9:00 AM &ndash\; Noon ($2.00)<br style="padding: 0px\; margin: 0px\;" />\n<span style="padding: 0px\; margin: 0px\; font-weight: 700\;">&bull\;</span><span style="padding: 0px\; margin: 0px\; font-weight: 700\;">&nbsp\;Cow Chip Breakfast:&nbsp\;</span>8:00am<br style="padding: 0px\; margin: 0px\;" />\n<span style="padding: 0px\; margin: 0px\; font-weight: 700\;">&bull\; Volleyball Tournament:&nbsp\;</span>8:30am Registration\, 9:00am Start.&nbsp\;<em>Download 2022 registration form <a href="https://www.wiscowchip.com/wp-content/uploads/2022/06/Volleyball-Fillable-Flyer-Cow-Chip-2022.pdf">here</a>.</em><br style="padding: 0px\; margin: 0px\;" />\n<span style="padding: 0px\; margin: 0px\; font-weight: 700\;">&bull\;&nbsp\;</span><span style="padding: 0px\; margin: 0px\; font-weight: 700\;">Arts &amp\; Crafts Fair:</span>&nbsp\;9:00 AM &ndash\; 5:00 PM (over 125 exhibits)<br style="padding: 0px\; margin: 0px\;" />\n<span style="padding: 0px\; margin: 0px\; font-weight: 700\;">&bull\; Mixed Nuts:&nbsp\;</span>10:00 &amp\; 11:00 AM (Kids Area)<br style="padding: 0px\; margin: 0px\;" />\n<span style="padding: 0px\; margin: 0px\; font-weight: 700\;">&bull\;&nbsp\;<a href="https://www.angelapuertamusic.com/" style="padding: 0px\; margin: 0px\; text-decoration-line: none\; color: var(--the7-links-color)\;"><span style="color:#0000FF\;">Angela Puerta</span></a>:&nbsp\;</span>9:30 &ndash\; 11:30 AM<br style="padding: 0px\; margin: 0px\;" />\n<span style="padding: 0px\; margin: 0px\; font-weight: 700\;">&bull\; Tournament of Chips Parade:&nbsp\;</span>12:00 PM<br style="padding: 0px\; margin: 0px\;" />\n<span style="padding: 0px\; margin: 0px\; font-weight: 700\;">&bull\; Adult &amp\; Team Cow Chip Throw:</span>&nbsp\;1:00 PM<br style="padding: 0px\; margin: 0px\;" />\n<span style="padding: 0px\; margin: 0px\; font-weight: 700\;">&bull\; German Wheel\, Tight Rope\, Trapeze:&nbsp\;</span>1:30 &ndash\; 3:30 PM (Kids Stage)<br style="padding: 0px\; margin: 0px\;" />\n<span style="padding: 0px\; margin: 0px\; font-weight: 700\;">&bull\; Truly Remarkable Loon Comedy Juggler:&nbsp\;</span>1:30\, 2:30\, 3:30 PM (Kids Stage)<br style="padding: 0px\; margin: 0px\;" />\n<span style="padding: 0px\; margin: 0px\; font-weight: 700\;">&bull\;<a href="https://www.danlepien.com/" style="padding: 0px\; margin: 0px\; text-decoration-line: none\; color: var(--the7-links-color)\;">&nbsp\;<span style="color:#0000FF\;">Dan Lepien</span></a>:</span>&nbsp\;1:30 &ndash\; 4:30 PM<br style="padding: 0px\; margin: 0px\;" />\n<span style="padding: 0px\; margin: 0px\; font-weight: 700\;">&bull\;&nbsp\;Kid&rsquo\;s Pedal Pull:</span>&nbsp\;2:30 PM<br style="padding: 0px\; margin: 0px\;" />\n<span style="padding: 0px\; margin: 0px\; font-weight: 700\;">&bull\; Mark Hayward Juggler Yo-Yoer:</span>&nbsp\;3:30 PM<br style="padding: 0px\; margin: 0px\;" />\n<span style="padding: 0px\; margin: 0px\; font-weight: 700\;">&bull\;&nbsp\;<a href="http://www.agentertainmentusa.com/52ndstreet" style="padding: 0px\; margin: 0px\; text-decoration-line: none\; color: var(--the7-links-color)\;"><span style="color:#0000FF\;">52nd Street Band &ndash\; A Billy Joel Tribute</span></a>:</span>&nbsp\;5:00 &ndash\; 7:30 PM<br style="padding: 0px\; margin: 0px\;" />\n<span style="padding: 0px\; margin: 0px\; font-weight: 700\;">&bull\;&nbsp\;<a href="https://thecheapshots.com/" style="padding: 0px\; margin: 0px\; text-decoration-line: none\; color: var(--the7-links-color)\;"><span style="color:#0000FF\;">The Cheap Shots</span></a>:</span>&nbsp\;8:30 &ndash\; 11:30 PM</p>\n\n<h3 class="jp-title" style="padding: 0px\; margin: 0px\; clear: none\; color: var(--the7-h3-color)\; font: var(--the7-h3-font)\; text-transform: var(--the7-h3-text-transform)\; letter-spacing: var(--the7-h3-letter-spacing)\; word-spacing: var(--the7-h3-word-spacing)\; text-decoration: var(--the7-h3-text-decoration)\;"><em><strong>Please stay turd for updates!</strong></em></h3>\n</div>\n</div>\n
LOCATION:Marion Park Located at Grand Avenue and First Street Prairie du Sac\, WI 53578
UID:e.1184.27027
SEQUENCE:3
DTSTAMP:20260421T061454Z
URL:http://members.saukprairie.com/events/details/wisconsin-state-cow-chip-throw-2022-27027
END:VEVENT

END:VCALENDAR
