BEGIN:VCALENDAR
VERSION:2.0
PRODID:-//ChamberMaster//Event Calendar 2.0//EN
METHOD:PUBLISH
X-PUBLISHED-TTL:P3D
REFRESH-INTERVAL:P3D
CALSCALE:GREGORIAN
BEGIN:VEVENT
DTSTART;VALUE=DATE:20230901
DTEND;VALUE=DATE:20230903
TRANSP:TRANSPARENT
X-MICROSOFT-CDO-ALLDAYEVENT:TRUE
SUMMARY:Wisconsin State Cow Chip Throw 2023
DESCRIPTION:Approximately 40\,000 people attend the Wisconsin State Cow Chip throw each year.  The current Cow Chip throw state record is 248 feet.  Featuring a parade\, stages for entertainment\, arts and crafts fair\, food booths\, 5k & 10k run and much more!\n\n \n\n\nFriday   September 1st\n\n \n\n  West on 12: 5:00 PM   9:00 PM\n\n  Corporate Throw: 5:30 PM (Click here to sign up)\n\n \n\n\n\n\nSaturday   September 2nd\n\n \n\n  Food Court: Open all day   See vendor list here\n\n  5K Run/Walk & 10K Run: 8:00 AM (registration at 6:30)\n\n  See race page for details and to sign up.\n\n  Cow Chip Breakfast: 8:00am\n\n  Volleyball Tournament: 8:30am Registration\, 9:00am Start. \n\n    Download 2023 registration form here.\n\n  Arts & Crafts Fair: 9:00 AM   5:00 PM (over 125 exhibits)\n\n  Children's Game Tent: 9:00 AM   6:00 PM\n\n  Children's Chip Chucking: 9:00 AM   Noon ($2.00)\n\n  Tony Rocker   Elvis Tribute: 9:30   12:00 PM\n\n  Mixed Nuts   Kids' Comedy: 9:45 AM\, 11:30 AM\, 2:45 PM (Kids Area)\n\n  Jack of Clubs   Jugglers: 10:30 AM (Kids Area)\n\n  Tournament of Chips Parade: 12:00 PM\n\n  Animal Quest: 12:45\, 1:45\, 3:30 PM (Kids Area)\n\n  Adult & Team Cow Chip Throw: 1:00 PM\n\n  VO5: 1:30   4:30 PM\n\n  Kid's Pedal Pull: 2:30 PM\n\n  High Millage: 5:00   9:00 PM\n\nClick here to volunteer!
X-ALT-DESC;FMTTYPE=text/html:Approximately 40\,000 people attend the Wisconsin State Cow Chip throw each year.&nbsp\; The current Cow Chip throw state record is 248 feet.&nbsp\; Featuring a parade\, stages for entertainment\, arts and crafts fair\, food booths\, 5k &amp\; 10k run and much more!\n<div class="module-header" style="padding: 0px\; margin: 0px\; color: rgb(0\, 0\, 0)\; font-family: Arial\, Helvetica\, Arial\, Verdana\, sans-serif\; font-size: 15px\;">\n<h2 style="padding: 0px\; margin: 0px 0px 10px\; clear: none\; color: var(--the7-h2-color)\; font: var(--the7-h2-font)\; text-transform: var(--the7-h2-text-transform)\; letter-spacing: var(--the7-h2-letter-spacing)\; word-spacing: var(--the7-h2-word-spacing)\; text-decoration: var(--the7-h2-text-decoration)\;">&nbsp\;</h2>\n\n<div class="module-header" style="padding: 0px\; margin: 0px\; color: rgb(0\, 0\, 0)\; font-family: Arial\, Helvetica\, Arial\, Verdana\, sans-serif\; font-size: 15px\;">\n<h2 style="padding: 0px\; margin: 0px 0px 10px\; clear: none\; color: var(--the7-h2-color)\; font: var(--the7-h2-font)\; text-transform: var(--the7-h2-text-transform)\; letter-spacing: var(--the7-h2-letter-spacing)\; word-spacing: var(--the7-h2-word-spacing)\; text-decoration: var(--the7-h2-text-decoration)\;">Friday &bull\; September 1st</h2>\n\n<div class="hr-thin" style="padding: 0px\; margin: 0px auto\; clear: both\; height: 9px\; line-height: 9px\; border-style: solid none none\; border-top-width: 1px\; border-top-color: \; border-left-width: initial\; border-left-color: initial\; border-right-width: initial\; border-right-color: initial\; border-bottom-width: initial\; border-bottom-color: initial\;">&nbsp\;</div>\n\n<p style="padding: 0px\; margin: 0px 0px 10px\;"><span style="padding: 0px\; margin: 0px\; font-weight: 700\;">&bull\;&nbsp\;<a href="https://www.weston12.com/" style="padding: 0px\; margin: 0px\; text-decoration-line: none\; color: var(--the7-links-color)\;">West on 12</a>:&nbsp\;</span>5:00 PM &ndash\; 9:00 PM<br style="padding: 0px\; margin: 0px\;" />\n<span style="padding: 0px\; margin: 0px\; font-weight: 700\;">&bull\; Corporate Throw:&nbsp\;</span>5:30 PM (<a href="https://www.wiscowchip.com/wp-content/uploads/2023/04/2023-Corporate-Throw-Entry-Form.pdf" style="padding: 0px\; margin: 0px\; text-decoration-line: none\; color: var(--the7-links-color)\;">Click here to sign up)</a></p>\n\n<p style="padding: 0px\; margin: 0px\;">&nbsp\;</p>\n</div>\n\n<div class="module-content clearfix" style="padding: 0px\; margin: 0px\; color: rgb(0\, 0\, 0)\; font-family: Arial\, Helvetica\, Arial\, Verdana\, sans-serif\; font-size: 15px\;">\n<div class="custom" style="padding: 0px\; margin: 0px\;">\n<h2 style="padding: 0px\; margin: 0px 0px 10px\; clear: none\; color: var(--the7-h2-color)\; font: var(--the7-h2-font)\; text-transform: var(--the7-h2-text-transform)\; letter-spacing: var(--the7-h2-letter-spacing)\; word-spacing: var(--the7-h2-word-spacing)\; text-decoration: var(--the7-h2-text-decoration)\;">Saturday &bull\; September 2nd</h2>\n\n<div class="hr-thin" style="padding: 0px\; margin: 0px auto\; clear: both\; height: 9px\; line-height: 9px\; border-style: solid none none\; border-top-width: 1px\; border-top-color: \; border-left-width: initial\; border-left-color: initial\; border-right-width: initial\; border-right-color: initial\; border-bottom-width: initial\; border-bottom-color: initial\;">&nbsp\;</div>\n\n<p style="padding: 0px\; margin: 0px 0px 10px\;"><span style="padding: 0px\; margin: 0px\; font-weight: 700\;">&bull\;&nbsp\;Food Court:&nbsp\;</span>Open all day &ndash\; See vendor list&nbsp\;<a href="https://www.wiscowchip.com/food-court/" rel="noopener noreferrer" style="padding: 0px\; margin: 0px\; text-decoration-line: none\; color: var(--the7-links-color)\;" target="_blank">here</a><br style="padding: 0px\; margin: 0px\;" />\n<span style="padding: 0px\; margin: 0px\; font-weight: 700\;">&bull\;</span>&nbsp\;<span style="padding: 0px\; margin: 0px\; font-weight: 700\;">5K Run/Walk &amp\; 10K Run</span>: 8:00 AM (registration at 6:30)<br style="padding: 0px\; margin: 0px\;" />\n<em style="padding: 0px\; margin: 0px\;">&nbsp\; See&nbsp\;<a href="https://www.wiscowchip.com/index.php/classic-run-walk" rel="noopener noreferrer" style="padding: 0px\; margin: 0px\; text-decoration-line: none\; color: var(--the7-links-color)\;" target="_blank"><span style="color:#0000FF\;">race page</span></a>&nbsp\;for details and to sign up.</em><br style="padding: 0px\; margin: 0px\;" />\n<span style="padding: 0px\; margin: 0px\; font-weight: 700\;">&bull\; Cow Chip Breakfast: 8:00am<br style="padding: 0px\; margin: 0px\;" />\n&bull\; Volleyball Tournament: 8:30am Registration\, 9:00am Start.&nbsp\;</span><br />\n&nbsp\;&nbsp\;&nbsp\;&nbsp\;<span style="padding: 0px\; margin: 0px\; font-weight: 700\;"><em style="padding: 0px\; margin: 0px\;">Download 2023 registration form&nbsp\;<a href="https://www.wiscowchip.com/wp-content/uploads/2023/06/Volleyball-Fillable-Flyer-Cow-Chip-2023.pdf" style="padding: 0px\; margin: 0px\; text-decoration-line: none\; color: var(--the7-links-color)\;"><span style="color:#0000FF\;">here</span></a>.</em></span><br style="padding: 0px\; margin: 0px\;" />\n<span style="padding: 0px\; margin: 0px\; font-weight: 700\;">&bull\; Arts &amp\; Crafts Fair: 9:00 AM &ndash\; 5:00 PM (over 125 exhibits)<br style="padding: 0px\; margin: 0px\;" />\n&bull\; Children&rsquo\;s Game Tent:&nbsp\;</span>9:00 AM &ndash\; 6:00 PM<br style="padding: 0px\; margin: 0px\;" />\n<span style="padding: 0px\; margin: 0px\; font-weight: 700\;">&bull\; Children&rsquo\;s Chip Chucking:&nbsp\;</span>9:00 AM &ndash\; Noon ($2.00)<br style="padding: 0px\; margin: 0px\;" />\n<span style="padding: 0px\; margin: 0px\; font-weight: 700\;">&bull\;&nbsp\;<a href="https://tonyrocker.com/" style="padding: 0px\; margin: 0px\; text-decoration-line: none\; color: var(--the7-links-color)\;">Tony Rocker &ndash\; Elvis Tribute</a>:&nbsp\;</span>9:30 &ndash\; 12:00 PM<br style="padding: 0px\; margin: 0px\;" />\n<span style="padding: 0px\; margin: 0px\; font-weight: 700\;">&bull\; Mixed Nuts &ndash\; Kids&rsquo\; Comedy:&nbsp\;</span>9:45 AM\, 11:30 AM\, 2:45 PM (Kids Area)<br style="padding: 0px\; margin: 0px\;" />\n<span style="padding: 0px\; margin: 0px\; font-weight: 700\;">&bull\; Jack of Clubs &ndash\; Jugglers:&nbsp\;</span>10:30 AM (Kids Area)<br style="padding: 0px\; margin: 0px\;" />\n<span style="padding: 0px\; margin: 0px\; font-weight: 700\;">&bull\;&nbsp\;<a href="https://www.wiscowchip.com/tournament-chips-parade/" style="padding: 0px\; margin: 0px\; text-decoration-line: none\; color: var(--the7-links-color)\;">Tournament of Chips Parade</a>:&nbsp\;</span>12:00 PM<br style="padding: 0px\; margin: 0px\;" />\n<span style="padding: 0px\; margin: 0px\; font-weight: 700\;">&bull\; Animal Quest:&nbsp\;</span>12:45\, 1:45\, 3:30 PM (Kids Area)<br style="padding: 0px\; margin: 0px\;" />\n<span style="padding: 0px\; margin: 0px\; font-weight: 700\;">&bull\; Adult &amp\; Team Cow Chip Throw:</span>&nbsp\;1:00 PM<br style="padding: 0px\; margin: 0px\;" />\n<span style="padding: 0px\; margin: 0px\; font-weight: 700\;">&bull\;&nbsp\;<a href="https://www.voh5.com/" style="padding: 0px\; margin: 0px\; text-decoration-line: none\; color: var(--the7-links-color)\;">VO5</a>:</span>&nbsp\;1:30 &ndash\; 4:30 PM<br style="padding: 0px\; margin: 0px\;" />\n<span style="padding: 0px\; margin: 0px\; font-weight: 700\;">&bull\;&nbsp\;Kid&rsquo\;s Pedal Pull:</span>&nbsp\;2:30 PM<br style="padding: 0px\; margin: 0px\;" />\n<span style="padding: 0px\; margin: 0px\; font-weight: 700\;">&bull\;&nbsp\;<a href="https://www.highmileageband.net/" style="padding: 0px\; margin: 0px\; text-decoration-line: none\; color: var(--the7-links-color)\;">High Millage</a>:</span>&nbsp\;5:00 &ndash\; 9:00 PM</p>\n\n<p style="padding: 0px\; margin: 0px 0px 10px\; color: rgb(0\, 0\, 0)\; font-family: Arial\, Helvetica\, Arial\, Verdana\, sans-serif\; font-size: 15px\;"><a href="https://signup.com/client/invitation2/secure/32516846079/true#/invitation"><span style="padding: 0px\; margin: 0px\; font-weight: 700\;">Click here to volunteer!</span></a></p>\n\n<div>&nbsp\;</div>\n</div>\n</div>\n</div>\n
LOCATION:Marion Park Located at Grand Avenue and First Street Prairie du Sac\, WI 53578
UID:e.1184.29291
SEQUENCE:3
DTSTAMP:20260420T073904Z
URL:http://members.saukprairie.com/events/details/wisconsin-state-cow-chip-throw-2023-29291
END:VEVENT

END:VCALENDAR
