BEGIN:VCALENDAR
VERSION:2.0
PRODID:-//ChamberMaster//Event Calendar 2.0//EN
METHOD:PUBLISH
X-PUBLISHED-TTL:P3D
REFRESH-INTERVAL:P3D
CALSCALE:GREGORIAN
BEGIN:VEVENT
DTSTART;VALUE=DATE:20240830
DTEND;VALUE=DATE:20240901
TRANSP:TRANSPARENT
X-MICROSOFT-CDO-ALLDAYEVENT:TRUE
SUMMARY:Wisconsin State Cow Chip Throw 2024
DESCRIPTION:Approximately 40\,000 people attend the Wisconsin State Cow Chip throw each year.  The current Cow Chip throw state record is 248 feet.  Featuring a parade\, stages for entertainment\, arts and crafts fair\, food booths\, 5k & 10k run and much more!\n\n\n\nClick here to book your stay for the weekend!\n\n \n\nFriday   August 30th\n\n \n\n  Dan Lepien Band: 5:00 PM   9:00 PM\n\n  Corporate Throw: 5:30 PM (Click here to sign up)\n\n \n\n\n\n\nSaturday   August 31st\n\n \n\n  Food Court: Open all day   See vendor list here\n\n  5K Run/Walk & 10K Run: 8:00 AM (registration at 6:30)\n\n  See race page for details and to sign up.\n\n  Cow Chip Breakfast: 8:00am\n\n  Farmers Market: 9:00am   4:00pm\n\n  Petting Zoo: 9:00am   4:00pm\n\n  Volleyball Tournament: 8:30am Registration\, 9:00am Start. Download 2024 registration form here\n\n  Arts & Crafts Fair: 9:00 AM   5:00 PM (over 125 exhibits)\n\n  Children's Game Tent: 9:00 AM   6:00 PM\n\n  Children's Chip Chucking: 9:00 AM   Noon ($2.00)\n\n  Tony Rocker   Elvis Tribute: 9:30   12:00 PM\n\n  Mixed Nuts   Kids' Comedy: 9:45 AM\, 11:30 AM\, 2:45 PM (Kids Area)\n\n  Tournament of Chips Parade: 12:00 PM\n\n  Wis. State Adult & Team Cow Chip Throw: 1:00 PM\n\n  Best Practice   Rock & Country: 1:30   4:30 PM\n\n  Kid's Pedal Pull: 2:30 PM\n\n  High Mileage Country & Modern Pop: 5:00   9:00 PM\n\nPlease stay turd for updates!\n\n\n\n \n\nClick here to volunteer!
X-ALT-DESC;FMTTYPE=text/html:Approximately 40\,000 people attend the Wisconsin State Cow Chip throw each year.&nbsp\; The current Cow Chip throw state record is 248 feet.&nbsp\; Featuring a parade\, stages for entertainment\, arts and crafts fair\, food booths\, 5k &amp\; 10k run and much more!<br />\n<br />\n<strong><a href="https://www.saukprairie.com/list/category/accommodations-1250">Click here</a></strong> to book your stay for the weekend!<br />\n&nbsp\;\n<div class="module-header" style="padding: 0px\; margin: 0px\; color: rgb(0\, 0\, 0)\; font-family: Arial\, Helvetica\, Arial\, Verdana\, sans-serif\; font-size: 15px\;">\n<h2 style="padding: 0px\; margin: 0px 0px 10px\; clear: none\; color: var(--the7-h2-color)\; font: var(--the7-h2-font)\; text-transform: var(--the7-h2-text-transform)\; letter-spacing: var(--the7-h2-letter-spacing)\; word-spacing: var(--the7-h2-word-spacing)\; text-decoration: var(--the7-h2-text-decoration)\;"><span style="color:#B22222\;"><span style="font-size:18px\;"><strong>Friday &bull\; August 30th</strong></span></span></h2>\n\n<div class="hr-thin" style="padding: 0px\; margin: 0px auto\; clear: both\; height: 9px\; line-height: 9px\; border-style: solid none none\; border-top-width: 1px\; border-top-color: \; border-left-width: initial\; border-left-color: initial\; border-right-width: initial\; border-right-color: initial\; border-bottom-width: initial\; border-bottom-color: initial\;">&nbsp\;</div>\n\n<p style="padding: 0px\; margin: 0px 0px 10px\;"><span style="padding: 0px\; margin: 0px\; font-weight: 700\;">&bull\;&nbsp\;<a href="http://www.danlepien.com/" style="padding: 0px\; margin: 0px\; text-decoration-line: none\; color: var(--the7-links-color)\;"><span style="color:#0000FF\;">Dan Lepien Band</span></a>:&nbsp\;</span>5:00 PM &ndash\; 9:00 PM<br style="padding: 0px\; margin: 0px\;" />\n<span style="padding: 0px\; margin: 0px\; font-weight: 700\;">&bull\; Corporate Throw:&nbsp\;</span>5:30 PM (<a href="https://www.wiscowchip.com/wp-content/uploads/2023/07/2023-Cow-Chip-Corporate-Throw-Entry-Form.pdf" style="padding: 0px\; margin: 0px\; text-decoration-line: none\; color: var(--the7-links-color)\;"><span style="color:#0000FF\;">Click here to sign up</span>)</a></p>\n\n<p style="padding: 0px\; margin: 0px\;">&nbsp\;</p>\n</div>\n\n<div class="module-content clearfix" style="padding: 0px\; margin: 0px\; color: rgb(0\, 0\, 0)\; font-family: Arial\, Helvetica\, Arial\, Verdana\, sans-serif\; font-size: 15px\;">\n<div class="custom" style="padding: 0px\; margin: 0px\;">\n<h2 style="padding: 0px\; margin: 0px 0px 10px\; clear: none\; color: var(--the7-h2-color)\; font: var(--the7-h2-font)\; text-transform: var(--the7-h2-text-transform)\; letter-spacing: var(--the7-h2-letter-spacing)\; word-spacing: var(--the7-h2-word-spacing)\; text-decoration: var(--the7-h2-text-decoration)\;"><span style="color:#B22222\;"><span style="font-size:18px\;"><strong>Saturday &bull\; August 31st</strong></span></span></h2>\n\n<div class="hr-thin" style="padding: 0px\; margin: 0px auto\; clear: both\; height: 9px\; line-height: 9px\; border-style: solid none none\; border-top-width: 1px\; border-top-color: \; border-left-width: initial\; border-left-color: initial\; border-right-width: initial\; border-right-color: initial\; border-bottom-width: initial\; border-bottom-color: initial\;">&nbsp\;</div>\n\n<p style="padding: 0px\; margin: 0px 0px 10px\;"><span style="padding: 0px\; margin: 0px\; font-weight: 700\;">&bull\;&nbsp\;Food Court:&nbsp\;</span>Open all day &ndash\; See vendor list&nbsp\;<a href="https://www.wiscowchip.com/food-court/" rel="noopener noreferrer" style="padding: 0px\; margin: 0px\; text-decoration-line: none\; color: var(--the7-links-color)\;" target="_blank">here</a><br style="padding: 0px\; margin: 0px\;" />\n<span style="padding: 0px\; margin: 0px\; font-weight: 700\;">&bull\;</span>&nbsp\;<span style="padding: 0px\; margin: 0px\; font-weight: 700\;">5K Run/Walk &amp\; 10K Run</span>: 8:00 AM (registration at 6:30)<br style="padding: 0px\; margin: 0px\;" />\n<em style="padding: 0px\; margin: 0px\;">&nbsp\; See&nbsp\;<a href="https://www.wiscowchip.com/index.php/classic-run-walk" rel="noopener noreferrer" style="padding: 0px\; margin: 0px\; text-decoration-line: none\; color: var(--the7-links-color)\;" target="_blank"><span style="color:#0000FF\;">race page</span></a>&nbsp\;for details and to sign up.</em><br style="padding: 0px\; margin: 0px\;" />\n<span style="padding: 0px\; margin: 0px\; font-weight: 700\;">&bull\; Cow Chip Breakfast:&nbsp\;</span>8:00am<br style="padding: 0px\; margin: 0px\;" />\n<span style="padding: 0px\; margin: 0px\; font-weight: 700\;">&bull\; Farmers&nbsp\;</span><span style="padding: 0px\; margin: 0px\; font-weight: 700\;">Market:&nbsp\;</span>9:00am &ndash\; 4:00pm<br style="padding: 0px\; margin: 0px\;" />\n<span style="padding: 0px\; margin: 0px\; font-weight: 700\;">&bull\;&nbsp\;Petting Zoo:&nbsp\;</span>9:00am &ndash\; 4:00pm<br style="padding: 0px\; margin: 0px\;" />\n<span style="padding: 0px\; margin: 0px\; font-weight: 700\;">&bull\; Volleyball Tournament: 8:30am Registration\, 9:00am Start.&nbsp\;<em style="padding: 0px\; margin: 0px\;">Download 2024 registration form&nbsp\;<a href="https://www.wiscowchip.com/wp-content/uploads/2024/06/Volleyball-Fillable-Flyer-Cow-Chip-2024.pdf" style="padding: 0px\; margin: 0px\; text-decoration-line: none\; color: var(--the7-links-color)\;"><span style="color:#0000FF\;">here</span></a></em><br style="padding: 0px\; margin: 0px\;" />\n&bull\; Arts &amp\; Crafts Fair: 9:00 AM &ndash\; 5:00 PM (over 125 exhibits)<br style="padding: 0px\; margin: 0px\;" />\n&bull\; Children&rsquo\;s Game Tent: 9:00 AM &ndash\; 6:00 PM<br style="padding: 0px\; margin: 0px\;" />\n&bull\; Children&rsquo\;s Chip Chucking: 9:00 AM &ndash\; Noon ($2.00)<br style="padding: 0px\; margin: 0px\;" />\n&bull\;&nbsp\;<a href="https://tonyrocker.com/" style="padding: 0px\; margin: 0px\; text-decoration-line: none\; color: var(--the7-links-color)\;"><span style="color:#0000FF\;">Tony Rocker</span> &ndash\; Elvis Tribute</a>: 9:30 &ndash\; 12:00 PM<br style="padding: 0px\; margin: 0px\;" />\n&bull\; Mixed Nuts &ndash\; Kids&rsquo\; Comedy: 9:45 AM\, 11:30 AM\, 2:45 PM (Kids Area)</span><br style="padding: 0px\; margin: 0px\;" />\n<span style="padding: 0px\; margin: 0px\; font-weight: 700\;">&bull\;&nbsp\;<a href="https://www.wiscowchip.com/tournament-chips-parade/" style="padding: 0px\; margin: 0px\; text-decoration-line: none\; color: var(--the7-links-color)\;">Tournament of Chips Parade</a>: 12:00 PM</span><br style="padding: 0px\; margin: 0px\;" />\n<span style="padding: 0px\; margin: 0px\; font-weight: 700\;">&bull\; Wis. State Adult &amp\; Team Cow Chip Throw:</span>&nbsp\;1:00 PM<br style="padding: 0px\; margin: 0px\;" />\n<span style="padding: 0px\; margin: 0px\; font-weight: 700\;">&bull\;&nbsp\;<a href="https://www.bestpractice5.com/" style="padding: 0px\; margin: 0px\; text-decoration-line: none\; color: var(--the7-links-color)\;"><span style="color:#0000FF\;">Best Practice</span></a>&nbsp\;&ndash\; Rock &amp\; Country:</span>&nbsp\;1:30 &ndash\; 4:30 PM<br style="padding: 0px\; margin: 0px\;" />\n<span style="padding: 0px\; margin: 0px\; font-weight: 700\;">&bull\;&nbsp\;Kid&rsquo\;s Pedal Pull:</span>&nbsp\;2:30 PM<br style="padding: 0px\; margin: 0px\;" />\n<span style="padding: 0px\; margin: 0px\; font-weight: 700\;">&bull\;&nbsp\;<a href="https://www.highmileageband.net/" style="padding: 0px\; margin: 0px\; text-decoration-line: none\; color: var(--the7-links-color)\;"><span style="color:#0000FF\;">High Mileage</span></a>&nbsp\;Country &amp\; Modern Pop:</span>&nbsp\;5:00 &ndash\; 9:00 PM</p>\n\n<h3 class="jp-title" style="padding: 0px\; margin: 0px\; clear: none\; color: var(--the7-h3-color)\; font: var(--the7-h3-font)\; text-transform: var(--the7-h3-text-transform)\; letter-spacing: var(--the7-h3-letter-spacing)\; word-spacing: var(--the7-h3-word-spacing)\; text-decoration: var(--the7-h3-text-decoration)\;">Please stay turd for updates!</h3>\n</div>\n</div>\n\n<p style="padding: 0px\; margin: 0px 0px 10px\; color: rgb(0\, 0\, 0)\; font-family: Arial\, Helvetica\, Arial\, Verdana\, sans-serif\; font-size: 15px\;">&nbsp\;</p>\n\n<p style="padding: 0px\; margin: 0px 0px 10px\; color: rgb(0\, 0\, 0)\; font-family: Arial\, Helvetica\, Arial\, Verdana\, sans-serif\; font-size: 15px\;"><a href="https://signup.com/client/invitation2/secure/781115362020"><span style="color:#0000FF\;"><span style="padding: 0px\; margin: 0px\; font-weight: 700\;">Click here to volunteer!</span></span></a></p>\n
LOCATION:Marion Park Located at Grand Avenue and First Street Prairie du Sac\, WI 53578
UID:e.1184.32303
SEQUENCE:3
DTSTAMP:20260419T163424Z
URL:http://members.saukprairie.com/events/details/wisconsin-state-cow-chip-throw-2024-32303
END:VEVENT

END:VCALENDAR
