BEGIN:VCALENDAR
VERSION:2.0
PRODID:-//ChamberMaster//Event Calendar 2.0//EN
METHOD:PUBLISH
X-PUBLISHED-TTL:P3D
REFRESH-INTERVAL:P3D
CALSCALE:GREGORIAN
BEGIN:VEVENT
DTSTART:20180414T150000Z
DTEND:20180414T170000Z
X-MICROSOFT-CDO-ALLDAYEVENT:FALSE
SUMMARY:WisLUG Lego Showcase
DESCRIPTION:The Library is hosting a morning full of Lego fun. Come view awesome displays by the Wisconsin LEGO Users Group (WisLUG) then build your own creations with bricks provided. Drop in for a quick peek or stay for an hour or two!
X-ALT-DESC;FMTTYPE=text/html:<span style="color:rgb(0\, 0\, 0)\; font-family:arial\; font-size:11pt">The Library is hosting a morning full of Lego fun. Come view awesome displays by the Wisconsin LEGO Users Group (WisLUG) then build your own creations with bricks provided. Drop in for a quick peek or stay for an hour or two!</span><br />\n&nbsp\;
LOCATION:Sauk City Public Library 515 Water St. Sauk City\, WI
UID:e.1184.14736
SEQUENCE:3
DTSTAMP:20260424T125631Z
URL:http://members.saukprairie.com/events/details/wislug-lego-showcase-14736
END:VEVENT

END:VCALENDAR
