BEGIN:VCALENDAR
VERSION:2.0
PRODID:-//ChamberMaster//Event Calendar 2.0//EN
METHOD:PUBLISH
X-PUBLISHED-TTL:P3D
REFRESH-INTERVAL:P3D
CALSCALE:GREGORIAN
BEGIN:VEVENT
DTSTART:20220507T150000Z
DTEND:20220507T180000Z
X-MICROSOFT-CDO-ALLDAYEVENT:FALSE
SUMMARY:WisLUG Showcase
DESCRIPTION:The library is hosting a day full of Lego fun. Come view awesome displays by WisLUG members. Then build your own creations with the bricks provided. \n\nDrop in for a quick peek or stay for an hour or two!
X-ALT-DESC;FMTTYPE=text/html:The library is hosting a day full of Lego fun. Come view awesome displays by WisLUG members. Then build your own creations with the bricks provided.&nbsp\;<br />\nDrop in for a quick peek or stay for an hour or two!
LOCATION:615 Phillips Blvd\, Sauk City
UID:e.1184.27403
SEQUENCE:3
DTSTAMP:20260421T131646Z
URL:http://members.saukprairie.com/events/details/wislug-showcase-05-07-2022-27403
END:VEVENT

END:VCALENDAR
