BEGIN:VCALENDAR
VERSION:2.0
PRODID:-//ChamberMaster//Event Calendar 2.0//EN
METHOD:PUBLISH
X-PUBLISHED-TTL:P3D
REFRESH-INTERVAL:P3D
CALSCALE:GREGORIAN
BEGIN:VEVENT
DTSTART:20190427T150000Z
DTEND:20190427T170000Z
X-MICROSOFT-CDO-ALLDAYEVENT:FALSE
SUMMARY:WisLUG Showcase
DESCRIPTION:The library is hosting a morning full of Lego fun. Come view awesome displays by the Wisconsin LEGO Users Group (WisLUG) and build your own lego creations with the bricks provided. Drop in for a quick peek or stay for an hour or two!
X-ALT-DESC;FMTTYPE=text/html:<span style="font-family:arial\; font-size:11pt">The library is hosting a morning full of Lego fun. Come view awesome displays by the Wisconsin LEGO Users Group (WisLUG) and build your own lego creations with the bricks provided. Drop in for a quick peek or stay for an hour or two!</span>
LOCATION:Sauk City Library 515 Water Street Sauk City\, WI 53583
UID:e.1184.22144
SEQUENCE:3
DTSTAMP:20260423T200136Z
URL:http://members.saukprairie.com/events/details/wislug-showcase-22144
END:VEVENT

END:VCALENDAR
