BEGIN:VCALENDAR
VERSION:2.0
PRODID:-//ChamberMaster//Event Calendar 2.0//EN
METHOD:PUBLISH
X-PUBLISHED-TTL:P3D
REFRESH-INTERVAL:P3D
CALSCALE:GREGORIAN
BEGIN:VEVENT
DTSTART:20160704T153000Z
DTEND:20160704T170000Z
X-MICROSOFT-CDO-ALLDAYEVENT:FALSE
SUMMARY:Witwen 4th of July Parade & Chicken BBQ
DESCRIPTION:Black Hawk and Denzer United Methodist churches sponsor a Chicken BBQ dinner on the grounds.  A huge parade\, including Jean Powell's saxophone band performing on the Concerts at the Campground float\, begins at 10:30 a.m.  The parade starts at the intersection of County roads E and O\, passes through the tiny town of Witwen\, and finishes at the Campground.  People arrive before 8:00 a.m. to find parking space along Co Hwy E.  The Parade is followed by a Chicken BBQ at the campground.
X-ALT-DESC;FMTTYPE=text/html:Black Hawk and Denzer United Methodist churches sponsor a Chicken BBQ dinner on the grounds.&nbsp\; A huge parade\, including Jean Powell&#39\;s saxophone band performing on the Concerts at the Campground float\, begins at 10:30 a.m.&nbsp\; The parade&nbsp\;starts at the intersection of County roads E and O\, passes through the tiny town of Witwen\, and finishes at the Campground.&nbsp\; People arrive&nbsp\;before 8:00&nbsp\;a.m. to&nbsp\;find parking space along Co Hwy E.&nbsp\; <span style="font-size: 12px\;">The Parade is followed by&nbsp\;a Chicken BBQ at the campground.</span>
LOCATION:
UID:e.1184.8544
SEQUENCE:3
DTSTAMP:20260425T224633Z
URL:http://members.saukprairie.com/events/details/witwen-4th-of-july-parade-chicken-bbq-07-04-2016-8544
END:VEVENT

END:VCALENDAR
