BEGIN:VCALENDAR
VERSION:2.0
PRODID:-//ChamberMaster//Event Calendar 2.0//EN
METHOD:PUBLISH
X-PUBLISHED-TTL:P3D
REFRESH-INTERVAL:P3D
CALSCALE:GREGORIAN
BEGIN:VEVENT
DTSTART:20190704T153000Z
DTEND:20190704T200000Z
X-MICROSOFT-CDO-ALLDAYEVENT:FALSE
SUMMARY:Witwen 4th of July Parade & Chicken BBQ
DESCRIPTION:4th of July Parade starts at 10:30am at Witwen Wayside. Spectators arrive early to get a spot on Co E. Event continues w/ Chicken\, Brats\, BBQ\, Ice Cream\, Pie\, and Soft Drinks followed by Family Games at the Witwen Campgrounds (north end of Witwen).\n\n\n\nView a map of the route and layout here\n\n\n\nTo find more information and event flyer visit: https://www.facebook.com/witwen4th/\n\n\n\nWitwen is 10 miles west of Sauk City and 10 miles east of Plain. Located on Hwy E off Hwy PF or take Hwy O off Hwy C.\n\n\n\nNo alcohol or dogs allowed on the grounds.
X-ALT-DESC;FMTTYPE=text/html:4th of July Parade starts at 10:30am at Witwen Wayside. Spectators arrive early to get a spot on Co E. Event continues w/ Chicken\, Brats\, BBQ\, Ice Cream\, Pie\, and Soft Drinks followed by Family Games at the Witwen Campgrounds (north end of Witwen).<br />\n<br />\n<a href="https://chambermaster.blob.core.windows.net/userfiles/UserFiles/chambers/1184/File/2019ParadeFlyer.pdf">View a map of the route and layout here</a><br />\n<br />\nTo find more information and event flyer visit:&nbsp\;<a href="https://www.facebook.com/witwen4th/">https://www.facebook.com/witwen4th/</a><br />\n<br />\nWitwen is 10 miles west of Sauk City and 10 miles east of Plain. Located on Hwy E off Hwy PF or take Hwy O off Hwy C.<br />\n<br />\nNo alcohol or dogs allowed on the grounds.
LOCATION:Witwen
UID:e.1184.11734
SEQUENCE:3
DTSTAMP:20260423T153711Z
URL:http://members.saukprairie.com/events/details/witwen-4th-of-july-parade-chicken-bbq-07-04-2017-11734
END:VEVENT

END:VCALENDAR
