BEGIN:VCALENDAR
VERSION:2.0
PRODID:-//ChamberMaster//Event Calendar 2.0//EN
METHOD:PUBLISH
X-PUBLISHED-TTL:P3D
REFRESH-INTERVAL:P3D
CALSCALE:GREGORIAN
BEGIN:VEVENT
DTSTART:20190824T213000Z
DTEND:20190825T013000Z
X-MICROSOFT-CDO-ALLDAYEVENT:FALSE
SUMMARY:Witwen Concert at the Campground: DB Orchestra
DESCRIPTION:This group combines the harmonies of a Doo-Wop group\, the intensity of a marching band and the flair of great jazz ensembles of yesteryear. With a roster of nearly 20 musicians\, the hot horns\, smooth saxes and driving drums of the DB Orchestra will keep your head humming and toes tapping long after their show is over!\n\n\n\nCheck them out here!\n\nCampground opens at 4:30pm.  Concerts begin at 6:30pm. Food available beginning at 4:30pm. Concert goers bring lawn chairs\, blankets and their own picnic supper\, or purchase food from the food stand on the grounds\, for a relaxing\, beautiful summer evening of music.  In the event of rain\, concerts are held in the tabernacle on the grounds.
X-ALT-DESC;FMTTYPE=text/html:<p><span style="font-size:12px\;"><span style="font-family:tahoma\;"><span style="color: rgb(57\, 36\, 17)\;">This group combines the harmonies of a Doo-Wop group\, the intensity of a marching band and the flair of great jazz ensembles of yesteryear. With a roster of nearly 20 musicians\, the hot horns\, smooth saxes and driving drums of the DB Orchestra will keep your head humming and toes tapping long after their show is over!<br />\n<br />\n<a href="https://www.youtube.com/watch?v=sT_j21YQsE4&amp\;feature=youtu.be">Check them out here!</a></span></span></span></p>\n\n<p><span style="font-family: tahoma\; font-size: 12px\;">Campground opens at 4:30pm.&nbsp\; Concerts begin at 6:30pm. Food available beginning at 4:30pm. Concert goers bring lawn chairs\, blankets and their own picnic supper\, or purchase food from the food stand on the grounds\, for a relaxing\, beautiful summer evening of music.&nbsp\; In the event of rain\, concerts are held in the tabernacle on the grounds.</span></p>\n
LOCATION:Witwen Campground S9855 Highway E Witwen\, WI Just north of the Witwen bridge on County Road E
UID:e.1184.22023
SEQUENCE:3
DTSTAMP:20260423T125215Z
URL:http://members.saukprairie.com/events/details/witwen-concert-at-the-campground-db-orchestra-22023
END:VEVENT

END:VCALENDAR
