BEGIN:VCALENDAR
VERSION:2.0
PRODID:-//ChamberMaster//Event Calendar 2.0//EN
METHOD:PUBLISH
X-PUBLISHED-TTL:P3D
REFRESH-INTERVAL:P3D
CALSCALE:GREGORIAN
BEGIN:VEVENT
DTSTART:20160716T233000Z
DTEND:20160717T013000Z
X-MICROSOFT-CDO-ALLDAYEVENT:FALSE
SUMMARY:Witwen Concert at the Campground: Harmonious Wail
DESCRIPTION:The Wail is made of mandolin\, guitar\, female vocals and drums\, playing jazz\, be-bop and Gypsy Swing.\n\nCampground opens at 4:00pm.  Concerts begin at 6:30pm. Food available beginning at 4:30pm. Concert goers bring lawn chairs\, blankets and their own picnic supper\, or purchase food from the food stand on the grounds\, for a relaxing\, beautiful summer evening of music.  In the event of rain\, concerts are held in the tabernacle on the grounds.
X-ALT-DESC;FMTTYPE=text/html:<p><span style="font-size:12px\;"><span style="font-family: tahoma\;">The Wail is made of mandolin\, guitar\, female vocals and drums\, playing jazz\, be-bop and Gypsy Swing.</span></span></p>\n\n<p><span style="font-size:12px\;"><span style="font-family: tahoma\;">Campground opens at 4:00pm.&nbsp\; Concerts begin at 6:30pm. Food available beginning at 4:30pm. Concert goers bring lawn chairs\, blankets and their own picnic supper\, or purchase food from the food stand on the grounds\, for a relaxing\, beautiful summer evening of music.&nbsp\; In the event of rain\, concerts are held in the tabernacle on the grounds.</span></span></p>\n
LOCATION:Witwen Campground S9855 Highway E Witwen\, WI Just north of the Witwen bridge on County Road E
UID:e.1184.8545
SEQUENCE:3
DTSTAMP:20260426T003920Z
URL:http://members.saukprairie.com/events/details/witwen-concert-at-the-campground-harmonious-wail-07-16-2016-8545
END:VEVENT

END:VCALENDAR
