BEGIN:VCALENDAR
VERSION:2.0
PRODID:-//ChamberMaster//Event Calendar 2.0//EN
METHOD:PUBLISH
X-PUBLISHED-TTL:P3D
REFRESH-INTERVAL:P3D
CALSCALE:GREGORIAN
BEGIN:VEVENT
DTSTART:20170826T233000Z
DTEND:20170827T013000Z
X-MICROSOFT-CDO-ALLDAYEVENT:FALSE
SUMMARY:Witwen Concert at the Campground: Larry Busch Big Band
DESCRIPTION:Returning for the 13th season\, affectionately called the "Buschwackers Swing Band"\, the music centers around swing and ballroom dance styles\, but occasionally incorporates other styles into their repertoire. website\n\nCampground opens at 4:30pm.  Concerts begin at 6:30pm. Food available beginning at 4:30pm. Concert goers bring lawn chairs\, blankets and their own picnic supper\, or purchase food from the food stand on the grounds\, for a relaxing\, beautiful summer evening of music.  In the event of rain\, concerts are held in the tabernacle on the grounds.
X-ALT-DESC;FMTTYPE=text/html:<p><span style="font-size: 12px\;"><span style="font-family: tahoma\;">Returning for the 13th season\, affectionately called the &quot\;Buschwackers Swing Band&quot\;\,&nbsp\;the music centers around swing and ballroom dance styles\, but occasionally incorporates other styles into their repertoire</span></span>. <span style="font-size: 12px\;"><a href="http://www.buschband.com/" target="_blank"><font color="#0000ff" face="Arial"><em>website</em></font></a></span></p>\n\n<p><span style="font-size: 12px\;"><span style="font-family: tahoma\;">Campground opens at 4:30pm.&nbsp\; Concerts begin at 6:30pm. Food available beginning at 4:30pm. Concert goers bring lawn chairs\, blankets and their own picnic supper\, or purchase food from the food stand on the grounds\, for a relaxing\, beautiful summer evening of music.&nbsp\; In the event of rain\, concerts are held in the tabernacle on the grounds.</span></span></p>\n
LOCATION:Witwen Campground S9855 Highway E Witwen\, WI Just north of the Witwen bridge on County Road E
UID:e.1184.11776
SEQUENCE:3
DTSTAMP:20260425T033214Z
URL:http://members.saukprairie.com/events/details/witwen-concert-at-the-campground-larry-busch-big-band-11776
END:VEVENT

END:VCALENDAR
