BEGIN:VCALENDAR
VERSION:2.0
PRODID:-//ChamberMaster//Event Calendar 2.0//EN
METHOD:PUBLISH
X-PUBLISHED-TTL:P3D
REFRESH-INTERVAL:P3D
CALSCALE:GREGORIAN
BEGIN:VEVENT
DTSTART:20170805T233000Z
DTEND:20170806T013000Z
X-MICROSOFT-CDO-ALLDAYEVENT:FALSE
SUMMARY:Witwen Concert at the Campground: Mark Croft Band
DESCRIPTION:A singer/songwriter and acoustic guitarist with Roots\, Pop\, & Americana song styling\, Mark Croft is the classic 'triple threat'\; a skilled guitar player\, a powerful and dynamic vocalist\, and a talented songwriter and entertainer.\n\nCampground opens at 4:30pm.  Concerts begin at 6:30pm. Food available beginning at 4:30pm. Concert goers bring lawn chairs\, blankets and their own picnic supper\, or purchase food from the food stand on the grounds\, for a relaxing\, beautiful summer evening of music.  In the event of rain\, concerts are held in the tabernacle on the grounds.
X-ALT-DESC;FMTTYPE=text/html:<p><strong style="color: rgb(78\, 78\, 78)\; font-family: Muli\, sans-serif\; font-size: 16px\; text-align: center\;">A singer/songwriter and acoustic guitarist with Roots\, Pop\, &amp\; Americana song styling\, Mark Croft is the classic &#39\;triple threat&#39\;\; a skilled guitar player\, a powerful and dynamic vocalist\, and a talented songwriter and entertainer.</strong></p>\n\n<p><span style="font-size:12px\;"><span style="font-family: tahoma\;">Campground opens at 4:30pm.&nbsp\; Concerts begin at 6:30pm. Food available beginning at 4:30pm. Concert goers bring lawn chairs\, blankets and their own picnic supper\, or purchase food from the food stand on the grounds\, for a relaxing\, beautiful summer evening of music.&nbsp\; In the event of rain\, concerts are held in the tabernacle on the grounds.</span></span></p>\n
LOCATION:Witwen Campground S9855 Highway E Witwen\, WI Just north of the Witwen bridge on County Road E
UID:e.1184.11775
SEQUENCE:3
DTSTAMP:20260425T033111Z
URL:http://members.saukprairie.com/events/details/witwen-concert-at-the-campground-mark-croft-band-11775
END:VEVENT

END:VCALENDAR
