BEGIN:VCALENDAR
VERSION:2.0
PRODID:-//ChamberMaster//Event Calendar 2.0//EN
METHOD:PUBLISH
X-PUBLISHED-TTL:P3D
REFRESH-INTERVAL:P3D
CALSCALE:GREGORIAN
BEGIN:VEVENT
DTSTART:20180714T213000Z
DTEND:20180715T013000Z
X-MICROSOFT-CDO-ALLDAYEVENT:FALSE
SUMMARY:Witwen Concert at the Campground: Mark Croft Band
DESCRIPTION:Return engagement! A singer/songwriter and acoustic guitarist with roots\, pop and Americana song styling. Mark Croft is the classic "triple threat"\; a skilled guitar player\, a powerful and dynamic vocalist and a talented songwriter and entertainer. https://www.markcroftmusic.com/home\n\nCampground opens at 4:30pm.  Concerts begin at 6:30pm. Food available beginning at 4:30pm. Concert goers bring lawn chairs\, blankets and their own picnic supper\, or purchase food from the food stand on the grounds\, for a relaxing\, beautiful summer evening of music.  In the event of rain\, concerts are held in the tabernacle on the grounds.
X-ALT-DESC;FMTTYPE=text/html:<p><strong><em>Return engagement! A singer/songwriter and acoustic guitarist with roots\, pop and Americana song styling.&nbsp\;</em><em>Mark Croft is the classic &ldquo\;triple threat&rdquo\;\; a skilled guitar player\, a powerful and dynamic vocalist and a talented songwriter and entertainer.&nbsp\;</em></strong><a href="https://www.markcroftmusic.com/home">https://www.markcroftmusic.com/home</a></p>\n\n<p><span style="font-size:12px\;"><span style="font-family: tahoma\;">Campground opens at 4:30pm.&nbsp\; Concerts begin at 6:30pm. Food available beginning at 4:30pm. Concert goers bring lawn chairs\, blankets and their own picnic supper\, or purchase food from the food stand on the grounds\, for a relaxing\, beautiful summer evening of music.&nbsp\; In the event of rain\, concerts are held in the tabernacle on the grounds.</span></span></p>\n
LOCATION:Witwen Campground S9855 Highway E Witwen\, WI Just north of the Witwen bridge on County Road E
UID:e.1184.14522
SEQUENCE:3
DTSTAMP:20260424T082903Z
URL:http://members.saukprairie.com/events/details/witwen-concert-at-the-campground-mark-croft-band-14522
END:VEVENT

END:VCALENDAR
