BEGIN:VCALENDAR
VERSION:2.0
PRODID:-//ChamberMaster//Event Calendar 2.0//EN
METHOD:PUBLISH
X-PUBLISHED-TTL:P3D
REFRESH-INTERVAL:P3D
CALSCALE:GREGORIAN
BEGIN:VEVENT
DTSTART:20190803T213000Z
DTEND:20190804T013000Z
X-MICROSOFT-CDO-ALLDAYEVENT:FALSE
SUMMARY:Witwen Concert at the Campground: The Dang-Its
DESCRIPTION:Since 1998 The Dang-Its have crossed the Midwest performing "Western Swing\, Honky Tonk & Americana" music. The Dang-Its were named 2013 Country/Bluegrass Performer of the Year at the Madison Area Music Awards.   In 2013 the band's leaders Tom Waselchuk (guitar & vocals) and Jami Lampkins (guitar\, banjo & vocals) made their national television debut on the Midwest Country show\, aired in prime time on Saturday nights by the RFD-TV network. website\n\nCampground opens at 4:30pm.  Concerts begin at 6:30pm. Food available beginning at 4:30pm. Concert goers bring lawn chairs\, blankets and their own picnic supper\, or purchase food from the food stand on the grounds\, for a relaxing\, beautiful summer evening of music.  In the event of rain\, concerts are held in the tabernacle on the grounds.
X-ALT-DESC;FMTTYPE=text/html:<p><span style="font-family:tahoma\;"><span style="font-size:12px\;"><font style="color: rgb(0\, 0\, 0)\; font-family: Verdana\, Arial\, Helvetica\, sans-serif\; line-height: normal\;">Since 1998 The Dang-Its have crossed the Midwest performing &ldquo\;Western Swing\, Honky Tonk &amp\;&nbsp\;</font></span></span><font size="3" style="color: rgb(0\, 0\, 0)\; font-family: Verdana\, Arial\, Helvetica\, sans-serif\; line-height: normal\;"><font face="Arial"><st1:city w:st="on"><st1:place w:st="on"><span style="font-family:tahoma\;"><span style="font-size:12px\;">Americana</span></span></st1:place></st1:city></font></font><span style="font-family:tahoma\;"><span style="font-size:12px\;"><font style="color: rgb(0\, 0\, 0)\; font-family: Verdana\, Arial\, Helvetica\, sans-serif\; line-height: normal\;">&rdquo\; music.&nbsp\;<font color="#000000">The Dang-Its were named 2013 Country/Bluegrass Performer of the Year at the Madison Area Music Awards.&nbsp\;&nbsp\;&nbsp\;In 2013 the band&rsquo\;s leaders Tom Waselchuk (guitar &amp\; vocals) and Jami Lampkins (guitar\, banjo &amp\; vocals) made their national television debut on the Midwest Country show\, aired in prime time on Saturday nights by the RFD-TV network.&nbsp\;</font></font><a href="http://www.dang-its.com/" style="color: rgb(0\, 69\, 94)\; font-family: Verdana\, Arial\, Helvetica\, sans-serif\; font-size: 12px\; line-height: normal\;" target="_blank"><font color="#0000ff">website</font></a></span></span></p>\n\n<p><span style="font-family: tahoma\; font-size: 12px\;">Campground opens at 4:30pm.&nbsp\; Concerts begin at 6:30pm. Food available beginning at 4:30pm. Concert goers bring lawn chairs\, blankets and their own picnic supper\, or purchase food from the food stand on the grounds\, for a relaxing\, beautiful summer evening of music.&nbsp\; In the event of rain\, concerts are held in the tabernacle on the grounds.</span></p>\n
LOCATION:Witwen Campground S9855 Highway E Witwen\, WI Just north of the Witwen bridge on County Road E
UID:e.1184.22022
SEQUENCE:3
DTSTAMP:20260423T141636Z
URL:http://members.saukprairie.com/events/details/witwen-concert-at-the-campground-the-dang-its-22022
END:VEVENT

END:VCALENDAR
