BEGIN:VCALENDAR
VERSION:2.0
PRODID:-//ChamberMaster//Event Calendar 2.0//EN
METHOD:PUBLISH
X-PUBLISHED-TTL:P3D
REFRESH-INTERVAL:P3D
CALSCALE:GREGORIAN
BEGIN:VEVENT
DTSTART:20180630T213000Z
DTEND:20180701T013000Z
X-MICROSOFT-CDO-ALLDAYEVENT:FALSE
SUMMARY:Witwen Concert at the Campground: The Jimmy's
DESCRIPTION:The Jimmys have been ripping up stages with their blend of blues\, soul\, funk and R&B for nearly 10 years. Winners of several 2017 Madison Area Music Association awards! https://www.thejimmys.net/home\n\nCampground opens at 4:30pm.  Concerts begin at 6:30pm. Food available beginning at 4:30pm. Concert goers bring lawn chairs\, blankets and their own picnic supper\, or purchase food from the food stand on the grounds\, for a relaxing\, beautiful summer evening of music.  In the event of rain\, concerts are held in the tabernacle on the grounds.
X-ALT-DESC;FMTTYPE=text/html:<p><strong><em>The Jimmys have been ripping up stages with their blend of blues\, soul\, funk and R&amp\;B for nearly 10 years. </em><em>Winners of several 2017 Madison Area Music Association awards!&nbsp\;</em></strong><a href="https://www.thejimmys.net/home">https://www.thejimmys.net/home</a></p>\n\n<p><span style="font-size:12px\;"><span style="font-family: tahoma\;">Campground opens at 4:30pm.&nbsp\; Concerts begin at 6:30pm. Food available beginning at 4:30pm. Concert goers bring lawn chairs\, blankets and their own picnic supper\, or purchase food from the food stand on the grounds\, for a relaxing\, beautiful summer evening of music.&nbsp\; In the event of rain\, concerts are held in the tabernacle on the grounds.</span></span></p>\n
LOCATION:Witwen Campground S9855 Highway E Witwen\, WI Just north of the Witwen bridge on County Road E
UID:e.1184.14521
SEQUENCE:3
DTSTAMP:20260424T115325Z
URL:http://members.saukprairie.com/events/details/witwen-concert-at-the-campground-the-jimmy-s-14521
END:VEVENT

END:VCALENDAR
