BEGIN:VCALENDAR
VERSION:2.0
PRODID:-//ChamberMaster//Event Calendar 2.0//EN
METHOD:PUBLISH
X-PUBLISHED-TTL:P3D
REFRESH-INTERVAL:P3D
CALSCALE:GREGORIAN
BEGIN:VEVENT
DTSTART:20240720T213000Z
DTEND:20240721T010000Z
X-MICROSOFT-CDO-ALLDAYEVENT:FALSE
SUMMARY:Witwen Concert at the Campground: Wakefire
DESCRIPTION:Wakefire\, a genre defying Baroque Pop & Celtic Rock band from Eastern Michigan\, with their pounding rhythms and stacked harmonies\, will have us high-stepping in Witwen as they rock the stage!\n\n\n\nGrounds and Concessions open at 4:30pm.  Concerts begin at 6:00pm.\n\n\n\nConcert goers bring lawn chairs\, blankets and their own picnic supper\, or purchase food from the food stand on the grounds\, for a relaxing\, beautiful summer evening of music. \n\n\n\nIn the event of rain\, concerts are held in the tabernacle on the grounds.
X-ALT-DESC;FMTTYPE=text/html:<p>Wakefire\, a genre defying Baroque Pop &amp\; Celtic Rock band from Eastern Michigan\, with their pounding rhythms and stacked harmonies\, will have us high-stepping in Witwen as they rock the stage!<br />\n<br />\nGrounds and Concessions&nbsp\;open&nbsp\;at 4:30pm.&nbsp\; Concerts begin at 6:00pm.<br />\n<br />\nConcert goers bring lawn chairs\, blankets and their own picnic supper\, or purchase food from the food stand on the grounds\, for a relaxing\, beautiful summer evening of music.&nbsp\;<br />\n<br />\nIn the event of rain\, concerts are held in the tabernacle on the grounds.</p>\n
LOCATION:Witwen Campground S9855 Highway E Witwen\, WI Just north of the Witwen bridge on County Road E
UID:e.1184.31622
SEQUENCE:3
DTSTAMP:20260419T175514Z
URL:http://members.saukprairie.com/events/details/witwen-concert-at-the-campground-wakefire-31622
END:VEVENT

END:VCALENDAR
