BEGIN:VCALENDAR
VERSION:2.0
PRODID:-//ChamberMaster//Event Calendar 2.0//EN
METHOD:PUBLISH
X-PUBLISHED-TTL:P3D
REFRESH-INTERVAL:P3D
CALSCALE:GREGORIAN
BEGIN:VEVENT
DTSTART:20180728T213000Z
DTEND:20180729T013000Z
X-MICROSOFT-CDO-ALLDAYEVENT:FALSE
SUMMARY:Witwen Concert at the Campground: WheelHouse
DESCRIPTION:A nationally touring Americana and bluegrass band hailing from Madison\, WI. This four piece acoustic band will make you boogie! http://www.mightywheelhouse.com/\n\nCampground opens at 4:30pm.  Concerts begin at 6:30pm. Food available beginning at 4:30pm. Concert goers bring lawn chairs\, blankets and their own picnic supper\, or purchase food from the food stand on the grounds\, for a relaxing\, beautiful summer evening of music.  In the event of rain\, concerts are held in the tabernacle on the grounds.
X-ALT-DESC;FMTTYPE=text/html:<p><strong><em>A nationally touring Americana and bluegrass band hailing from Madison\, WI.&nbsp\;</em><em>This four piece acoustic band will make you boogie!&nbsp\;</em></strong><a href="http://www.mightywheelhouse.com/">http://www.mightywheelhouse.com/</a></p>\n\n<p><span style="font-size:12px\;"><span style="font-family: tahoma\;">Campground opens at 4:30pm.&nbsp\; Concerts begin at 6:30pm. Food available beginning at 4:30pm. Concert goers bring lawn chairs\, blankets and their own picnic supper\, or purchase food from the food stand on the grounds\, for a relaxing\, beautiful summer evening of music.&nbsp\; In the event of rain\, concerts are held in the tabernacle on the grounds.</span></span></p>\n
LOCATION:Witwen Campground S9855 Highway E Witwen\, WI Just north of the Witwen bridge on County Road E
UID:e.1184.14523
SEQUENCE:3
DTSTAMP:20260424T083215Z
URL:http://members.saukprairie.com/events/details/witwen-concert-at-the-campground-wheelhouse-14523
END:VEVENT

END:VCALENDAR
