BEGIN:VCALENDAR
VERSION:2.0
PRODID:-//ChamberMaster//Event Calendar 2.0//EN
METHOD:PUBLISH
X-PUBLISHED-TTL:P3D
REFRESH-INTERVAL:P3D
CALSCALE:GREGORIAN
BEGIN:VEVENT
DTSTART:20230715T230000Z
DTEND:20230716T010000Z
X-MICROSOFT-CDO-ALLDAYEVENT:FALSE
SUMMARY:Witwen Summer Concert Series
DESCRIPTION:The Witwen Summer Concert Series will take place at the historic Witwen Campground\, beginning July 8 and continuing the next 3 Saturdays -- July 15\, 22\, and 29.\n\n\n\nThe July 8 concert will feature The Honey Pies will join us (Traditional and Original Americana).).  \n\nJuly 15 we will welcome the Doreen's Jazz New Orleans \n\nOn July 22\, Shakey - A Neil Young Tribute\n\nJuly 29\, our final concert of the summer\, will feature Leonardo Garcia y Son Horizonte\n\n\n\nFood will be available for purchase from Middleton BBQ at the first two concerts\, and from Bob's BBQ Emporium at the last two concerts.  In addition\, Cub Scout Pack 373 will offer popcorn\, candy\, soda and water for sale during the concerts.\n\n\n\nGates open at 4:30 pm\; music begins at 6 pm and ends at 8 pm.  Free parking on site\, with handicapped parking available.\n\n\n\nBeer is not served at Witwen\, but carry-ins of adult beverages are allowed.  Please bring your own lawn chairs (very limited picnic table seating available).\n\n\n\nAll concerts are free of charge\, with a "Pass the Hat" opportunity to donate during intermission.\n\n\n\nThis Witwen Summer Concert Series is supported in part\, by a grant from the Sauk County Extension Education\, Arts & Culture Committee and the Wisconsin Arts Board with funds from the State of Wisconsin.
X-ALT-DESC;FMTTYPE=text/html:The&nbsp\;<strong>Witwen Summer Concert Series&nbsp\;</strong>will take place at the historic Witwen Campground\, beginning July 8 and continuing the next 3 Saturdays -- July 15\, 22\, and 29.<br />\n<br />\nThe July 8 concert will feature <strong>The Honey Pies</strong>&nbsp\;will join us (Traditional and Original Americana).). &nbsp\;<br />\nJuly 15 we will welcome the <b>Doreen&#39\;s Jazz New Orleans</b>&nbsp\;<br />\nOn July 22\, <b>Shakey - A Neil Young Tribute</b><br />\nJuly 29\, our final concert of the summer\, will feature<strong>&nbsp\;Leonardo Garcia y Son Horizonte</strong><br />\n<br />\nFood will be available for purchase from Middleton BBQ at the first two concerts\, and from Bob&#39\;s BBQ Emporium at the last two concerts. &nbsp\;In addition\, Cub Scout Pack 373 will offer popcorn\, candy\, soda and water for sale during the concerts.<br />\n<br />\nGates open at 4:30 pm\; music begins at 6 pm and ends at 8 pm. &nbsp\;Free parking on site\, with handicapped parking available.<br />\n<br />\nBeer is not served at Witwen\, but carry-ins of adult beverages are allowed. &nbsp\;Please bring your own lawn chairs (very limited picnic table seating available).<br />\n<br />\nAll concerts are free of charge\, with a &quot\;Pass the Hat&quot\; opportunity to donate during intermission.<br />\n<br />\nThis Witwen Summer Concert Series is supported in part\, by a grant from the Sauk County Extension Education\, Arts &amp\; Culture Committee and the Wisconsin Arts Board with funds from the State of Wisconsin.<br />\n<br />\n<br />\n&nbsp\;
LOCATION:Witwen Campground S9855 County Hwy. E Sauk City\, WI 53583
UID:e.1184.29357
SEQUENCE:3
DTSTAMP:20260420T102508Z
URL:http://members.saukprairie.com/events/details/witwen-summer-concert-series-07-15-2023-29357
END:VEVENT

END:VCALENDAR
