BEGIN:VCALENDAR
VERSION:2.0
PRODID:-//ChamberMaster//Event Calendar 2.0//EN
METHOD:PUBLISH
X-PUBLISHED-TTL:P3D
REFRESH-INTERVAL:P3D
CALSCALE:GREGORIAN
BEGIN:VEVENT
DTSTART:20180701T153000Z
DTEND:20180701T210000Z
X-MICROSOFT-CDO-ALLDAYEVENT:FALSE
SUMMARY:Witwen Tabernacle 100th Anniversary Celebration
DESCRIPTION:July 1st 2018 at 10:00 am. The Camp Witwen Association is celebrating 100 years of sharing the good news of God's love for the world and making disciples of Jesus Christ for the transformation of the world.. Member churches: Black Hawk-Bethlehem\, Concordia and Denzer-North Freedom United Methodist Churches. Guest evangelist: Bishop Hee-Soo Jung\, bishop of the Wisconsin Annual Conference United Methodist Church.
X-ALT-DESC;FMTTYPE=text/html:<span style="color: rgb(29\, 33\, 41)\; font-family: Helvetica\, Arial\, sans-serif\; font-size: 14px\;">July 1st 2018 at 10:00 am. The Camp Witwen Association is celebrating 100 years of sharing the good news of God&#39\;s love for the world and making disciples of Jesus Christ for the transformation of the world.. Member churches: Black Hawk-Bethlehem\, Concordia and Denzer-North Freedom United Methodist Churches. Guest evangelist: Bishop Hee-Soo Jung\, bishop of the Wisconsin Annual Conference United Methodist Church.</span>
LOCATION:
UID:e.1184.18367
SEQUENCE:3
DTSTAMP:20260424T081205Z
URL:http://members.saukprairie.com/events/details/witwen-tabernacle-100th-anniversary-celebration-18367
END:VEVENT

END:VCALENDAR
