BEGIN:VCALENDAR
VERSION:2.0
PRODID:-//ChamberMaster//Event Calendar 2.0//EN
METHOD:PUBLISH
X-PUBLISHED-TTL:P3D
REFRESH-INTERVAL:P3D
CALSCALE:GREGORIAN
BEGIN:VEVENT
DTSTART:20161110T230000Z
DTEND:20161111T010000Z
X-MICROSOFT-CDO-ALLDAYEVENT:FALSE
SUMMARY:Wollersheim Cocktail Hour
DESCRIPTION:Stop by and visit with us at Green Acres Steakhouse! From 5-7 pm\, we'll be there with winemaker Philippe and distiller Tom...and drink specials featuring our 1876 Press House Brandy & Garden Gate Gin.
X-ALT-DESC;FMTTYPE=text/html:<span style="color: rgb(75\, 79\, 86)\; font-family: Helvetica\, Arial\, sans-serif\; font-size: 14px\;">Stop by and visit with us at Green Acres Steakhouse! From 5-7 pm\, we&#39\;ll be there with winemaker Philippe and distiller Tom...and drink specials featuring our 1876 Press House Brandy &amp\; Garden Gate Gin.</span>
LOCATION:Green Acres
UID:e.1184.9444
SEQUENCE:3
DTSTAMP:20260425T160940Z
URL:http://members.saukprairie.com/events/details/wollersheim-cocktail-hour-9444
END:VEVENT

END:VCALENDAR
