BEGIN:VCALENDAR
VERSION:2.0
PRODID:-//ChamberMaster//Event Calendar 2.0//EN
METHOD:PUBLISH
X-PUBLISHED-TTL:P3D
REFRESH-INTERVAL:P3D
CALSCALE:GREGORIAN
BEGIN:VEVENT
DTSTART:20220611T160000Z
DTEND:20220611T220000Z
X-MICROSOFT-CDO-ALLDAYEVENT:FALSE
SUMMARY:Wollersheim's 50th Anniversary Celebration
DESCRIPTION:Join us on June 11th for Wollersheim's 50th Anniversary Celebration!\n\nCome and see where Wisconsin wine and spirits are made. Grab a brat from the Bistro outdoor grill and enjoy cocktails or wine by the glass while listening to live music from local bands\, at either the winery or distillery.\n\nTickets are not required for this event. Stay tuned for more fun announcements!
X-ALT-DESC;FMTTYPE=text/html:<div class="kvgmc6g5 cxmmr5t8 oygrvhab hcukyx3x c1et5uql" style="overflow-wrap: break-word\; margin: 0px\; font-family: &quot\;Segoe UI Historic&quot\;\, &quot\;Segoe UI&quot\;\, Helvetica\, Arial\, sans-serif\; color: rgb(5\, 5\, 5)\; font-size: 15px\;">Join us on June 11th for Wollersheim&rsquo\;s 50th Anniversary Celebration!</div>\n\n<div class="cxmmr5t8 oygrvhab hcukyx3x c1et5uql o9v6fnle" style="overflow-wrap: break-word\; margin: 0.5em 0px 0px\; font-family: &quot\;Segoe UI Historic&quot\;\, &quot\;Segoe UI&quot\;\, Helvetica\, Arial\, sans-serif\; color: rgb(5\, 5\, 5)\; font-size: 15px\;">Come and see where Wisconsin wine and spirits are made. Grab a brat from the Bistro outdoor grill and enjoy cocktails or wine by the glass while listening to live music from local bands\, at either the winery or distillery.</div>\n\n<div class="cxmmr5t8 oygrvhab hcukyx3x c1et5uql o9v6fnle" style="overflow-wrap: break-word\; margin: 0.5em 0px 0px\; font-family: &quot\;Segoe UI Historic&quot\;\, &quot\;Segoe UI&quot\;\, Helvetica\, Arial\, sans-serif\; color: rgb(5\, 5\, 5)\; font-size: 15px\;">Tickets are not required for this event. Stay tuned for more fun announcements!</div>\n
LOCATION:Wollersheim Winery & Distillery 7876 State Rd. 188\, Prairie du Sac\, WI 53578
UID:e.1184.27659
SEQUENCE:3
DTSTAMP:20260421T120041Z
URL:http://members.saukprairie.com/events/details/wollersheim-s-50th-anniversary-celebration-27659
END:VEVENT

END:VCALENDAR
